BEGIN:VCALENDAR
VERSION:2.0
PRODID:-//NJMEP - ECPv6.15.20//NONSGML v1.0//EN
CALSCALE:GREGORIAN
METHOD:PUBLISH
X-WR-CALNAME:NJMEP
X-ORIGINAL-URL:https://www.njmep.org
X-WR-CALDESC:Events for NJMEP
REFRESH-INTERVAL;VALUE=DURATION:PT1H
X-Robots-Tag:noindex
X-PUBLISHED-TTL:PT1H
BEGIN:VTIMEZONE
TZID:UTC
BEGIN:STANDARD
TZOFFSETFROM:+0000
TZOFFSETTO:+0000
TZNAME:UTC
DTSTART:20190101T000000
END:STANDARD
END:VTIMEZONE
BEGIN:VTIMEZONE
TZID:America/New_York
BEGIN:DAYLIGHT
TZOFFSETFROM:-0500
TZOFFSETTO:-0400
TZNAME:EDT
DTSTART:20190310T070000
END:DAYLIGHT
BEGIN:STANDARD
TZOFFSETFROM:-0400
TZOFFSETTO:-0500
TZNAME:EST
DTSTART:20191103T060000
END:STANDARD
BEGIN:DAYLIGHT
TZOFFSETFROM:-0500
TZOFFSETTO:-0400
TZNAME:EDT
DTSTART:20200308T070000
END:DAYLIGHT
BEGIN:STANDARD
TZOFFSETFROM:-0400
TZOFFSETTO:-0500
TZNAME:EST
DTSTART:20201101T060000
END:STANDARD
BEGIN:DAYLIGHT
TZOFFSETFROM:-0500
TZOFFSETTO:-0400
TZNAME:EDT
DTSTART:20210314T070000
END:DAYLIGHT
BEGIN:STANDARD
TZOFFSETFROM:-0400
TZOFFSETTO:-0500
TZNAME:EST
DTSTART:20211107T060000
END:STANDARD
BEGIN:DAYLIGHT
TZOFFSETFROM:-0500
TZOFFSETTO:-0400
TZNAME:EDT
DTSTART:20220313T070000
END:DAYLIGHT
BEGIN:STANDARD
TZOFFSETFROM:-0400
TZOFFSETTO:-0500
TZNAME:EST
DTSTART:20221106T060000
END:STANDARD
BEGIN:DAYLIGHT
TZOFFSETFROM:-0500
TZOFFSETTO:-0400
TZNAME:EDT
DTSTART:20230312T070000
END:DAYLIGHT
BEGIN:STANDARD
TZOFFSETFROM:-0400
TZOFFSETTO:-0500
TZNAME:EST
DTSTART:20231105T060000
END:STANDARD
BEGIN:DAYLIGHT
TZOFFSETFROM:-0500
TZOFFSETTO:-0400
TZNAME:EDT
DTSTART:20240310T070000
END:DAYLIGHT
BEGIN:STANDARD
TZOFFSETFROM:-0400
TZOFFSETTO:-0500
TZNAME:EST
DTSTART:20241103T060000
END:STANDARD
BEGIN:DAYLIGHT
TZOFFSETFROM:-0500
TZOFFSETTO:-0400
TZNAME:EDT
DTSTART:20250309T070000
END:DAYLIGHT
BEGIN:STANDARD
TZOFFSETFROM:-0400
TZOFFSETTO:-0500
TZNAME:EST
DTSTART:20251102T060000
END:STANDARD
END:VTIMEZONE
BEGIN:VEVENT
DTSTART;TZID=UTC:20200426T110000
DTEND;TZID=UTC:20220810T120000
DTSTAMP:20260423T064726
CREATED:20220810T141638Z
LAST-MODIFIED:20220810T141638Z
UID:55933-1587898800-1660132800@www.njmep.org
SUMMARY:Preparing Your Food Company for a Post-COVID  ‘New Normal’
DESCRIPTION:Webinar – Provide food manufacturers with actionable measures to make their workplace COVID safe for employees\, position companies to navigate out of the COVID challenge focusing on business growth – “The New Normal”
URL:https://www.njmep.org/calendar-event/preparing-your-food-company-for-a-post-covid-new-normal/
LOCATION:NJ
END:VEVENT
BEGIN:VEVENT
DTSTART;TZID=America/New_York:20200427T110000
DTEND;TZID=America/New_York:20241118T120000
DTSTAMP:20260423T064726
CREATED:20241118T010128Z
LAST-MODIFIED:20241118T010128Z
UID:77968-1587985200-1731931200@www.njmep.org
SUMMARY:Preparing Your Food Company for a Post-COVID  ‘New Normal’
DESCRIPTION:Webinar – Provide food manufacturers with actionable measures to make their workplace COVID safe for employees\, position companies to navigate out of the COVID challenge focusing on business growth – “The New Normal”
URL:https://www.njmep.org/calendar-event/preparing-your-food-company-for-a-post-covid-new-normal-2/
LOCATION:NJ
END:VEVENT
BEGIN:VEVENT
DTSTART;TZID=America/New_York:20201101T000000
DTEND;TZID=America/New_York:20210128T000000
DTSTAMP:20260423T064726
CREATED:20240506T172519Z
LAST-MODIFIED:20240506T172519Z
UID:71060-1604188800-1611792000@www.njmep.org
SUMMARY:cGMP Online (November 2020)
DESCRIPTION:“Current Good Manufacturing Practices (cGMP) Regulations is the process that ensures the quality of a product by establishing manufacturing procedures\, ensuring that food is safe and has been prepared\, packed\, and stored under hygienic conditions. They describe the methods\, equipment\, facilities\, and controls for producing processed food. These had major updates with FSMA in 2015\, from section 110 to being recently archived and now replaced with section 117 in the CFR (Code of Federal Regulations).Upon the successful completion of this course\, student assessments will demonstrate competencies and measurable skills in the following areas: \nHow to apply and build the components and requirements of cGMP within the food and beverage industry.\nImplement cGMPs through the organization to ensure sanitary and processing requirements are being met.\nHow to conduct an internal audit that covers all necessary departments to report and observe relevant findings. A certificate of completion will be issued upon successful completion of the course and test.”
URL:https://www.njmep.org/calendar-event/cgmp-online-november-2020/
LOCATION:NJ
END:VEVENT
BEGIN:VEVENT
DTSTART;TZID=America/New_York:20201101T000000
DTEND;TZID=America/New_York:20240506T000000
DTSTAMP:20260423T064726
CREATED:20240506T172513Z
LAST-MODIFIED:20240506T172513Z
UID:71046-1604188800-1714953600@www.njmep.org
SUMMARY:Food Recall & Withdrawals Online (November 2020)
DESCRIPTION:“A food recall is either a food manufacturer or suppliers’ voluntary response to a mislabeling\, or potential hazard by removing a product from the market place or it is mandated by the FDA in response to a food safety issue determined. The most common reasons for food recalls are allergen mislabeling and the presence of pathogens. Other reasons behind food recalls include incorrect packaging\, wrong food labels and physical contamination.\nThe importance of having a food recall plan is to ensure quick and efficient removal of affected products from the market plane and to allow the identification of key areas of needed improvement to prevent future hazards. Recall and withdrawal procedures are required for food manufacturers under the final FDA Food Safety Modernization Act (FSMA) rule for “Preventative Controls for Human Foods for hazards requiring control.”
URL:https://www.njmep.org/calendar-event/food-recall-withdrawals-online-november-2020/
LOCATION:NJ
END:VEVENT
BEGIN:VEVENT
DTSTART;TZID=America/New_York:20210105T100000
DTEND;TZID=America/New_York:20210128T120000
DTSTAMP:20260423T064726
CREATED:20230119T175934Z
LAST-MODIFIED:20230119T175934Z
UID:59979-1609840800-1611835200@www.njmep.org
SUMMARY:Supervisory Skills Training
DESCRIPTION:“This supervisory training course was specifically designed to address the needs of anyone who is new to managing others\, with a special focus on those managing in a multicultural workplace.  The content of this course will provide a powerful new set of skills\, strategies\, and techniques for dealing with the issues you will encounter as you take on your new position and move forward in your career.\nYou will find out how to relate well to former peers who are now your subordinates\, and you’ll learn the communication skills that will help you handle these changing relationships in a way that’s comfortable for everyone. You’ll discover secrets for motivating and encouraging people to do their “”personal best”” for you\, and find out how to discipline firmly and fairly\, without creating resentment. This supervisory training will show you how to positively influence the behavior of your workers.\nIn this workshop you’ll learn:\n•	How to communicate more effectively as a new supervisor\n•	When to be flexible\, and when to stand firm\n•	How to build trust and gain respect\n•	Strategies for motivating others to achieve results\n•	The truth about discipline — how to handle uncomfortable situations\n•	What every new supervisor and manager should know about hiring and firing\n•	Time management skills that really work\n•	And much\, much more!”
URL:https://www.njmep.org/calendar-event/supervisory-skills-training-5/
LOCATION:NJ
END:VEVENT
BEGIN:VEVENT
DTSTART;TZID=America/New_York:20210105T100000
DTEND;TZID=America/New_York:20210128T120000
DTSTAMP:20260423T064726
CREATED:20241118T010009Z
LAST-MODIFIED:20241118T010009Z
UID:77891-1609840800-1611835200@www.njmep.org
SUMMARY:Supervisory Skills Training
DESCRIPTION:“This supervisory training course was specifically designed to address the needs of anyone who is new to managing others\, with a special focus on those managing in a multicultural workplace.  The content of this course will provide a powerful new set of skills\, strategies\, and techniques for dealing with the issues you will encounter as you take on your new position and move forward in your career.\nYou will find out how to relate well to former peers who are now your subordinates\, and you’ll learn the communication skills that will help you handle these changing relationships in a way that’s comfortable for everyone. You’ll discover secrets for motivating and encouraging people to do their “”personal best”” for you\, and find out how to discipline firmly and fairly\, without creating resentment. This supervisory training will show you how to positively influence the behavior of your workers.\nIn this workshop you’ll learn:\n•	How to communicate more effectively as a new supervisor\n•	When to be flexible\, and when to stand firm\n•	How to build trust and gain respect\n•	Strategies for motivating others to achieve results\n•	The truth about discipline — how to handle uncomfortable situations\n•	What every new supervisor and manager should know about hiring and firing\n•	Time management skills that really work\n•	And much\, much more!”
URL:https://www.njmep.org/calendar-event/supervisory-skills-training-9/
LOCATION:NJ
END:VEVENT
BEGIN:VEVENT
DTSTART;TZID=America/New_York:20210120T100000
DTEND;TZID=America/New_York:20210120T110000
DTSTAMP:20260423T064726
CREATED:20221021T132640Z
LAST-MODIFIED:20221021T132640Z
UID:57583-1611136800-1611140400@www.njmep.org
SUMMARY:NJ Energy Costs Rising - How Manufacturers Can Protect Their Business
DESCRIPTION:New Jersey electricity costs are expected to continue rising and manufacturers\, in particular\, are at risk. These businesses can protect themselves and reduce the impact on their bottom line. Join us for this discussion on how New Jersey manufacturers can take immediate action to lower their electricity bills and how they can do their part to help fight back against unfair rate hikes.   \nRepresentatives from the New Jersey Large Energy Users Coalition and Concord Energy will be presenting solutions to Manufacturers energy challenges
URL:https://www.njmep.org/calendar-event/nj-energy-costs-rising-how-manufacturers-can-protect-their-business/
LOCATION:NJ
END:VEVENT
BEGIN:VEVENT
DTSTART;TZID=UTC:20210120T140000
DTEND;TZID=UTC:20210120T150000
DTSTAMP:20260423T064726
CREATED:20221021T132753Z
LAST-MODIFIED:20221021T132753Z
UID:57651-1611151200-1611154800@www.njmep.org
SUMMARY:NJMEP R&D Tax Credit Overview
DESCRIPTION:“Webinar for NJMEP clients to learn about R&D Tax credits – There are countless challenges\, and one big issue is having a lack of cash on hand. We were discussing strategies to help New Jersey manufacturers secure more capital in a time where nearly everyone is struggling to keep their doors open and saw R&D Tax Credits as a valuable option.  \nManufacturers are surprised to find out how many of their day-to-day activities can be considered R&D.  \nSign up for our webinar and find out what kind of capital you might expect to secure or learn how simple securing your Tax Credits can be with the right team behind you. “
URL:https://www.njmep.org/calendar-event/njmep-rd-tax-credit-overview-6/
LOCATION:NJ
END:VEVENT
BEGIN:VEVENT
DTSTART;TZID=America/New_York:20210120T140000
DTEND;TZID=America/New_York:20210120T150000
DTSTAMP:20260423T064726
CREATED:20241118T010124Z
LAST-MODIFIED:20241118T010124Z
UID:77947-1611151200-1611154800@www.njmep.org
SUMMARY:NJMEP R&D Tax Credit Overview
DESCRIPTION:“Webinar for NJMEP clients to learn about R&D Tax credits – There are countless challenges\, and one big issue is having a lack of cash on hand. We were discussing strategies to help New Jersey manufacturers secure more capital in a time where nearly everyone is struggling to keep their doors open and saw R&D Tax Credits as a valuable option.  \nManufacturers are surprised to find out how many of their day-to-day activities can be considered R&D.  \nSign up for our webinar and find out what kind of capital you might expect to secure or learn how simple securing your Tax Credits can be with the right team behind you. “
URL:https://www.njmep.org/calendar-event/njmep-rd-tax-credit-overview-13/
LOCATION:NJ
END:VEVENT
END:VCALENDAR