BEGIN:VCALENDAR
VERSION:2.0
PRODID:-//NJMEP - ECPv6.15.20//NONSGML v1.0//EN
CALSCALE:GREGORIAN
METHOD:PUBLISH
X-WR-CALNAME:NJMEP
X-ORIGINAL-URL:https://www.njmep.org
X-WR-CALDESC:Events for NJMEP
REFRESH-INTERVAL;VALUE=DURATION:PT1H
X-Robots-Tag:noindex
X-PUBLISHED-TTL:PT1H
BEGIN:VTIMEZONE
TZID:America/New_York
BEGIN:DAYLIGHT
TZOFFSETFROM:-0500
TZOFFSETTO:-0400
TZNAME:EDT
DTSTART:20190310T070000
END:DAYLIGHT
BEGIN:STANDARD
TZOFFSETFROM:-0400
TZOFFSETTO:-0500
TZNAME:EST
DTSTART:20191103T060000
END:STANDARD
BEGIN:DAYLIGHT
TZOFFSETFROM:-0500
TZOFFSETTO:-0400
TZNAME:EDT
DTSTART:20200308T070000
END:DAYLIGHT
BEGIN:STANDARD
TZOFFSETFROM:-0400
TZOFFSETTO:-0500
TZNAME:EST
DTSTART:20201101T060000
END:STANDARD
BEGIN:DAYLIGHT
TZOFFSETFROM:-0500
TZOFFSETTO:-0400
TZNAME:EDT
DTSTART:20210314T070000
END:DAYLIGHT
BEGIN:STANDARD
TZOFFSETFROM:-0400
TZOFFSETTO:-0500
TZNAME:EST
DTSTART:20211107T060000
END:STANDARD
BEGIN:DAYLIGHT
TZOFFSETFROM:-0500
TZOFFSETTO:-0400
TZNAME:EDT
DTSTART:20220313T070000
END:DAYLIGHT
BEGIN:STANDARD
TZOFFSETFROM:-0400
TZOFFSETTO:-0500
TZNAME:EST
DTSTART:20221106T060000
END:STANDARD
BEGIN:DAYLIGHT
TZOFFSETFROM:-0500
TZOFFSETTO:-0400
TZNAME:EDT
DTSTART:20230312T070000
END:DAYLIGHT
BEGIN:STANDARD
TZOFFSETFROM:-0400
TZOFFSETTO:-0500
TZNAME:EST
DTSTART:20231105T060000
END:STANDARD
BEGIN:DAYLIGHT
TZOFFSETFROM:-0500
TZOFFSETTO:-0400
TZNAME:EDT
DTSTART:20240310T070000
END:DAYLIGHT
BEGIN:STANDARD
TZOFFSETFROM:-0400
TZOFFSETTO:-0500
TZNAME:EST
DTSTART:20241103T060000
END:STANDARD
BEGIN:DAYLIGHT
TZOFFSETFROM:-0500
TZOFFSETTO:-0400
TZNAME:EDT
DTSTART:20250309T070000
END:DAYLIGHT
BEGIN:STANDARD
TZOFFSETFROM:-0400
TZOFFSETTO:-0500
TZNAME:EST
DTSTART:20251102T060000
END:STANDARD
END:VTIMEZONE
BEGIN:VEVENT
DTSTART;TZID=America/New_York:20200427T110000
DTEND;TZID=America/New_York:20241118T120000
DTSTAMP:20260420T030825
CREATED:20241118T010128Z
LAST-MODIFIED:20241118T010128Z
UID:77968-1587985200-1731931200@www.njmep.org
SUMMARY:Preparing Your Food Company for a Post-COVID  ‘New Normal’
DESCRIPTION:Webinar – Provide food manufacturers with actionable measures to make their workplace COVID safe for employees\, position companies to navigate out of the COVID challenge focusing on business growth – “The New Normal”
URL:https://www.njmep.org/calendar-event/preparing-your-food-company-for-a-post-covid-new-normal-2/
LOCATION:NJ
END:VEVENT
BEGIN:VEVENT
DTSTART;TZID=America/New_York:20201101T000000
DTEND;TZID=America/New_York:20240506T000000
DTSTAMP:20260420T030825
CREATED:20240506T172513Z
LAST-MODIFIED:20240506T172513Z
UID:71046-1604188800-1714953600@www.njmep.org
SUMMARY:Food Recall & Withdrawals Online (November 2020)
DESCRIPTION:“A food recall is either a food manufacturer or suppliers’ voluntary response to a mislabeling\, or potential hazard by removing a product from the market place or it is mandated by the FDA in response to a food safety issue determined. The most common reasons for food recalls are allergen mislabeling and the presence of pathogens. Other reasons behind food recalls include incorrect packaging\, wrong food labels and physical contamination.\nThe importance of having a food recall plan is to ensure quick and efficient removal of affected products from the market plane and to allow the identification of key areas of needed improvement to prevent future hazards. Recall and withdrawal procedures are required for food manufacturers under the final FDA Food Safety Modernization Act (FSMA) rule for “Preventative Controls for Human Foods for hazards requiring control.”
URL:https://www.njmep.org/calendar-event/food-recall-withdrawals-online-november-2020/
LOCATION:NJ
END:VEVENT
BEGIN:VEVENT
DTSTART;TZID=America/New_York:20231114T083000
DTEND;TZID=America/New_York:20231114T123000
DTSTAMP:20260420T030825
CREATED:20231026T152021Z
LAST-MODIFIED:20231107T210256Z
UID:66896-1699950600-1699965000@www.njmep.org
SUMMARY:Forklift Operator Training
DESCRIPTION:Content is protected.
URL:https://www.njmep.org/calendar-event/forklift-operator-training-2/
LOCATION:Auto Drill\, 8 Bartles Corner Road\, Unit 107\, Flemington\, NJ\, 08822\, United States
END:VEVENT
BEGIN:VEVENT
DTSTART;TZID=America/New_York:20231114T140000
DTEND;TZID=America/New_York:20231114T150000
DTSTAMP:20260420T030825
CREATED:20231012T173717Z
LAST-MODIFIED:20231113T191113Z
UID:66684-1699970400-1699974000@www.njmep.org
SUMMARY:Building High Performance Teams or Sales for the nonsales CEO
DESCRIPTION:This complimentary webinar will start with a CEO Sales Executive Briefing – This executive briefing will provide the CEO with a firm understanding of sales\, sales management\, sales performance\, pipeline development\, forecasting\, customer support\, marketing\, go-to-market strategy\, managing conflict\, etc. By the end of this executive briefing\, the CEO will have a foundation of knowledge around sales\, sales management\, forecasting\, sales process\, and methodology. \nThe webinar will then provide an introduction to Building a High-Performing Team with the objective: Building your business from the ground up requires having the right product\, service\, business processes\, etc.\, and having the right team. This seminar will give the participants an overview of the critical elements of building a high-performing team. Attendees will engage in lecture exercises. \nSeminar outline:\n1. What is a high-performing team?\n2. What are the critical components of an excellent foundation to build a high-performing team?\n3. The SWOT and GAP analysis of your business and team.\n4. Practical next steps to get started. \nKey takeaways from class:\n1. Understanding the critical components of a high-performing team\n2. Conducting a GAP analysis and plan of action for your business\n3. Implementing the plan of action for your business\n4. Establishing a performance dashboard to monitor the performance of your team and business
URL:https://www.njmep.org/calendar-event/building-high-performance-teams-or-sales-for-the-nonsales-ceo/
LOCATION:Online
ATTACH;FMTTYPE=image/jpeg:https://www.njmep.org/wp-content/uploads/2023/10/Depositphotos_11242480_l-2015.jpg
END:VEVENT
BEGIN:VEVENT
DTSTART;TZID=America/New_York:20231114T140000
DTEND;TZID=America/New_York:20231114T150000
DTSTAMP:20260420T030825
CREATED:20231027T180007Z
LAST-MODIFIED:20231106T170313Z
UID:66915-1699970400-1699974000@www.njmep.org
SUMMARY:Can I Sell My Business and How Much is it Worth?
DESCRIPTION:Absent a plan to create a sellable business\, most owners end up shutting down their businesses without selling or transitioning them to the next generation. Also\, most business owners fortunate enough to sell their businesses end up getting far less money than they expected. \nIt is important for you to understand whether your business is sellable and have an idea what it may be worth. We will share factors that will increase the likelihood of your business being attractive to a 3rd party and outline strategies for increasing the price they will pay. Topics covered include business sale statistics\, business buyer considerations\, valuation methodologies\, and value-building strategies.
URL:https://www.njmep.org/calendar-event/can-i-sell-my-business-and-how-much-is-it-worth-3/
LOCATION:Online
ATTACH;FMTTYPE=image/jpeg:https://www.njmep.org/wp-content/uploads/2023/08/Can_I_Sell_My_Business_2023.jpg
END:VEVENT
END:VCALENDAR