BEGIN:VCALENDAR
VERSION:2.0
PRODID:-//NJMEP - ECPv6.15.20//NONSGML v1.0//EN
CALSCALE:GREGORIAN
METHOD:PUBLISH
X-WR-CALNAME:NJMEP
X-ORIGINAL-URL:https://www.njmep.org
X-WR-CALDESC:Events for NJMEP
REFRESH-INTERVAL;VALUE=DURATION:PT1H
X-Robots-Tag:noindex
X-PUBLISHED-TTL:PT1H
BEGIN:VTIMEZONE
TZID:America/New_York
BEGIN:DAYLIGHT
TZOFFSETFROM:-0500
TZOFFSETTO:-0400
TZNAME:EDT
DTSTART:20190310T070000
END:DAYLIGHT
BEGIN:STANDARD
TZOFFSETFROM:-0400
TZOFFSETTO:-0500
TZNAME:EST
DTSTART:20191103T060000
END:STANDARD
BEGIN:DAYLIGHT
TZOFFSETFROM:-0500
TZOFFSETTO:-0400
TZNAME:EDT
DTSTART:20200308T070000
END:DAYLIGHT
BEGIN:STANDARD
TZOFFSETFROM:-0400
TZOFFSETTO:-0500
TZNAME:EST
DTSTART:20201101T060000
END:STANDARD
BEGIN:DAYLIGHT
TZOFFSETFROM:-0500
TZOFFSETTO:-0400
TZNAME:EDT
DTSTART:20210314T070000
END:DAYLIGHT
BEGIN:STANDARD
TZOFFSETFROM:-0400
TZOFFSETTO:-0500
TZNAME:EST
DTSTART:20211107T060000
END:STANDARD
BEGIN:DAYLIGHT
TZOFFSETFROM:-0500
TZOFFSETTO:-0400
TZNAME:EDT
DTSTART:20220313T070000
END:DAYLIGHT
BEGIN:STANDARD
TZOFFSETFROM:-0400
TZOFFSETTO:-0500
TZNAME:EST
DTSTART:20221106T060000
END:STANDARD
BEGIN:DAYLIGHT
TZOFFSETFROM:-0500
TZOFFSETTO:-0400
TZNAME:EDT
DTSTART:20230312T070000
END:DAYLIGHT
BEGIN:STANDARD
TZOFFSETFROM:-0400
TZOFFSETTO:-0500
TZNAME:EST
DTSTART:20231105T060000
END:STANDARD
BEGIN:DAYLIGHT
TZOFFSETFROM:-0500
TZOFFSETTO:-0400
TZNAME:EDT
DTSTART:20240310T070000
END:DAYLIGHT
BEGIN:STANDARD
TZOFFSETFROM:-0400
TZOFFSETTO:-0500
TZNAME:EST
DTSTART:20241103T060000
END:STANDARD
BEGIN:DAYLIGHT
TZOFFSETFROM:-0500
TZOFFSETTO:-0400
TZNAME:EDT
DTSTART:20250309T070000
END:DAYLIGHT
BEGIN:STANDARD
TZOFFSETFROM:-0400
TZOFFSETTO:-0500
TZNAME:EST
DTSTART:20251102T060000
END:STANDARD
END:VTIMEZONE
BEGIN:VEVENT
DTSTART;TZID=America/New_York:20200427T110000
DTEND;TZID=America/New_York:20241118T120000
DTSTAMP:20260420T143309
CREATED:20241118T010128Z
LAST-MODIFIED:20241118T010128Z
UID:77968-1587985200-1731931200@www.njmep.org
SUMMARY:Preparing Your Food Company for a Post-COVID  ‘New Normal’
DESCRIPTION:Webinar – Provide food manufacturers with actionable measures to make their workplace COVID safe for employees\, position companies to navigate out of the COVID challenge focusing on business growth – “The New Normal”
URL:https://www.njmep.org/calendar-event/preparing-your-food-company-for-a-post-covid-new-normal-2/
LOCATION:NJ
END:VEVENT
BEGIN:VEVENT
DTSTART;TZID=America/New_York:20240717T083000
DTEND;TZID=America/New_York:20240717T163000
DTSTAMP:20260420T143309
CREATED:20240626T170657Z
LAST-MODIFIED:20240710T144703Z
UID:73536-1721205000-1721233800@www.njmep.org
SUMMARY:OSHA 30 Hour Card for General Industry Training - North
DESCRIPTION:7/17\, 7/18\, 7/24\, 7/25/2024
URL:https://www.njmep.org/calendar-event/osha-30-hour-card-for-general-industry-training-north-2/
LOCATION:NJMEP North 2 Ridgedale Ave\, Suite 305\, Cedar Knolls\, NJ 07927\, 2 Ridgedale Ave\, Cedar Knolls\, NJ\, 07927\, United States
END:VEVENT
BEGIN:VEVENT
DTSTART;TZID=America/New_York:20240717T083000
DTEND;TZID=America/New_York:20240717T170000
DTSTAMP:20260420T143309
CREATED:20240220T201439Z
LAST-MODIFIED:20240712T152204Z
UID:69320-1721205000-1721235600@www.njmep.org
SUMMARY:Food Safety - Manager HACCP (Hazard Analysis and Critical Control Point) - North
DESCRIPTION:7/17/2024\, 7/19/2024
URL:https://www.njmep.org/calendar-event/food-safety-manager-haccp-hazard-analysis-and-critical-control-point-north-2/
LOCATION:NJMEP North 2 Ridgedale Ave\, Suite 305\, Cedar Knolls\, NJ 07927\, 2 Ridgedale Ave\, Cedar Knolls\, NJ\, 07927\, United States
END:VEVENT
BEGIN:VEVENT
DTSTART;TZID=America/New_York:20240717T100000
DTEND;TZID=America/New_York:20240717T120000
DTSTAMP:20260420T143309
CREATED:20240220T200402Z
LAST-MODIFIED:20240722T150507Z
UID:69316-1721210400-1721217600@www.njmep.org
SUMMARY:Compressed Air - Learn About Safety\, Technology and Methodology of Compressed Ai
DESCRIPTION:
URL:https://www.njmep.org/calendar-event/compressed-air-learn-about-safety-technology-and-methodology-of-compressed-air-8/
LOCATION:Online
ATTACH;FMTTYPE=image/jpeg:https://www.njmep.org/wp-content/uploads/2023/03/COMPRESSED-AIR_022423a.jpg
END:VEVENT
BEGIN:VEVENT
DTSTART;TZID=America/New_York:20240717T123000
DTEND;TZID=America/New_York:20240717T163000
DTSTAMP:20260420T143309
CREATED:20240522T173132Z
LAST-MODIFIED:20240717T154648Z
UID:71947-1721219400-1721233800@www.njmep.org
SUMMARY:Excel Intermediate - Virtual
DESCRIPTION:7/17 & 7/18/2024
URL:https://www.njmep.org/calendar-event/excel-intermediate-virtual/
LOCATION:Online
ATTACH;FMTTYPE=image/jpeg:https://www.njmep.org/wp-content/uploads/2023/12/EXCEL_INTERMEDIATE_2023.jpg
END:VEVENT
END:VCALENDAR