BEGIN:VCALENDAR
VERSION:2.0
PRODID:-//NJMEP - ECPv6.15.20//NONSGML v1.0//EN
CALSCALE:GREGORIAN
METHOD:PUBLISH
X-ORIGINAL-URL:https://www.njmep.org
X-WR-CALDESC:Events for NJMEP
REFRESH-INTERVAL;VALUE=DURATION:PT1H
X-Robots-Tag:noindex
X-PUBLISHED-TTL:PT1H
BEGIN:VTIMEZONE
TZID:America/New_York
BEGIN:DAYLIGHT
TZOFFSETFROM:-0500
TZOFFSETTO:-0400
TZNAME:EDT
DTSTART:20190310T070000
END:DAYLIGHT
BEGIN:STANDARD
TZOFFSETFROM:-0400
TZOFFSETTO:-0500
TZNAME:EST
DTSTART:20191103T060000
END:STANDARD
BEGIN:DAYLIGHT
TZOFFSETFROM:-0500
TZOFFSETTO:-0400
TZNAME:EDT
DTSTART:20200308T070000
END:DAYLIGHT
BEGIN:STANDARD
TZOFFSETFROM:-0400
TZOFFSETTO:-0500
TZNAME:EST
DTSTART:20201101T060000
END:STANDARD
BEGIN:DAYLIGHT
TZOFFSETFROM:-0500
TZOFFSETTO:-0400
TZNAME:EDT
DTSTART:20210314T070000
END:DAYLIGHT
BEGIN:STANDARD
TZOFFSETFROM:-0400
TZOFFSETTO:-0500
TZNAME:EST
DTSTART:20211107T060000
END:STANDARD
BEGIN:DAYLIGHT
TZOFFSETFROM:-0500
TZOFFSETTO:-0400
TZNAME:EDT
DTSTART:20220313T070000
END:DAYLIGHT
BEGIN:STANDARD
TZOFFSETFROM:-0400
TZOFFSETTO:-0500
TZNAME:EST
DTSTART:20221106T060000
END:STANDARD
BEGIN:DAYLIGHT
TZOFFSETFROM:-0500
TZOFFSETTO:-0400
TZNAME:EDT
DTSTART:20230312T070000
END:DAYLIGHT
BEGIN:STANDARD
TZOFFSETFROM:-0400
TZOFFSETTO:-0500
TZNAME:EST
DTSTART:20231105T060000
END:STANDARD
BEGIN:DAYLIGHT
TZOFFSETFROM:-0500
TZOFFSETTO:-0400
TZNAME:EDT
DTSTART:20240310T070000
END:DAYLIGHT
BEGIN:STANDARD
TZOFFSETFROM:-0400
TZOFFSETTO:-0500
TZNAME:EST
DTSTART:20241103T060000
END:STANDARD
BEGIN:DAYLIGHT
TZOFFSETFROM:-0500
TZOFFSETTO:-0400
TZNAME:EDT
DTSTART:20250309T070000
END:DAYLIGHT
BEGIN:STANDARD
TZOFFSETFROM:-0400
TZOFFSETTO:-0500
TZNAME:EST
DTSTART:20251102T060000
END:STANDARD
END:VTIMEZONE
BEGIN:VEVENT
DTSTART;TZID=America/New_York:20200427T110000
DTEND;TZID=America/New_York:20241118T120000
DTSTAMP:20260420T041136
CREATED:20241118T010128Z
LAST-MODIFIED:20241118T010128Z
UID:77968-1587985200-1731931200@www.njmep.org
SUMMARY:Preparing Your Food Company for a Post-COVID  ‘New Normal’
DESCRIPTION:Webinar – Provide food manufacturers with actionable measures to make their workplace COVID safe for employees\, position companies to navigate out of the COVID challenge focusing on business growth – “The New Normal”
URL:https://www.njmep.org/calendar-event/preparing-your-food-company-for-a-post-covid-new-normal-2/
LOCATION:NJ
END:VEVENT
BEGIN:VEVENT
DTSTART;TZID=America/New_York:20241009T083000
DTEND;TZID=America/New_York:20241009T170000
DTSTAMP:20260420T041136
CREATED:20240626T190357Z
LAST-MODIFIED:20241008T125206Z
UID:73587-1728462600-1728493200@www.njmep.org
SUMMARY:Food Safety - Manager HACCP (Hazard Analysis and Critical Control Point) - North
DESCRIPTION:10/9\, 10/10/2024
URL:https://www.njmep.org/calendar-event/food-safety-manager-haccp-hazard-analysis-and-critical-control-point-north-3/
LOCATION:NJMEP North 2 Ridgedale Ave\, Suite 305\, Cedar Knolls\, NJ 07927\, 2 Ridgedale Ave\, Cedar Knolls\, NJ\, 07927\, United States
ATTACH;FMTTYPE=image/jpeg:https://www.njmep.org/wp-content/uploads/2023/02/Food_Safety_Manager_HACCP_2023.jpg
END:VEVENT
BEGIN:VEVENT
DTSTART;TZID=America/New_York:20241009T083000
DTEND;TZID=America/New_York:20241009T170000
DTSTAMP:20260420T041136
CREATED:20240626T200635Z
LAST-MODIFIED:20241001T150707Z
UID:73592-1728462600-1728493200@www.njmep.org
SUMMARY:NJMEP's APICS Certified Supply Chain Professional (CSCP) Training Course
DESCRIPTION:10/9\, 10/16\, 10/23\, 11/6\, 11/13\, 11/20/2024\nDescription:\nThe APICS Certified Supply Chain Professional (CSCP) program is the first and only supply chain certification that encompasses the end-to-end global supply chain. APICS CSCP designees gain the skills to effectively manage global supply chain activities that involve suppliers\, plants\, distributors\, and customers located around the world. Earning the CSCP credential will help the candidate: Master the knowledge most important to expert supply chain professionals as defined by the most current APICS Global Job Task Analysis. Remain current with supply chain trends and developments. Stand out from other candidates in a job search. Boost confidence with recognition as a supply chain expert. Demonstrate long-term commitment to the supply chain profession.\nNow more than ever before\, supply chain is essential for businesses to run\, consumers to get the goods they need and society to function. APICS Certified Supply Chain Certification (CSCP) is the playbook needed to understand and deliver this critical process.\nThe comprehensive program covers everything the participant needs to know across the global supply chain\, from suppliers to customers and back again. Earning a CSCP designation shows the skills to prepare for and overcome disruption\, manage risk\, and evaluate and implement modern supply chain technologies. \nCSCP content covers the following key topics:\nSupply Chains\, Demand Management\, and Forecasting\nGlobal Supply Chain Networks\nSourcing Products and Services\nInternal Operations and Inventory\nForward and Reverse Logistics\nSupply Chain Relationships\nSupply Chain Risk\nOptimization\, Sustainability\, and Technology \nPlease note that this program requires students to have an ASCM membership with Certification upgrade. Membership is not included in the price of the program\, but can be obtained at www.ascm.org at an additional $249/student.
URL:https://www.njmep.org/calendar-event/njmeps-apics-certified-supply-chain-professional-cscp-training-course/
LOCATION:Online
END:VEVENT
BEGIN:VEVENT
DTSTART;TZID=America/New_York:20241009T110000
DTEND;TZID=America/New_York:20241009T120000
DTSTAMP:20260420T041136
CREATED:20240626T184728Z
LAST-MODIFIED:20241025T133502Z
UID:73575-1728471600-1728475200@www.njmep.org
SUMMARY:CMMC Mandate Compliance Requirements for DOD Contractors – Time is Running Out
DESCRIPTION:
URL:https://www.njmep.org/calendar-event/cmmc-mandate-compliance-requirements-for-dod-contractors-time-is-running-out-2/
LOCATION:Online
END:VEVENT
END:VCALENDAR