BEGIN:VCALENDAR
VERSION:2.0
PRODID:-//NJMEP - ECPv6.15.20//NONSGML v1.0//EN
CALSCALE:GREGORIAN
METHOD:PUBLISH
X-WR-CALNAME:NJMEP
X-ORIGINAL-URL:https://www.njmep.org
X-WR-CALDESC:Events for NJMEP
REFRESH-INTERVAL;VALUE=DURATION:PT1H
X-Robots-Tag:noindex
X-PUBLISHED-TTL:PT1H
BEGIN:VTIMEZONE
TZID:America/New_York
BEGIN:DAYLIGHT
TZOFFSETFROM:-0500
TZOFFSETTO:-0400
TZNAME:EDT
DTSTART:20240310T070000
END:DAYLIGHT
BEGIN:STANDARD
TZOFFSETFROM:-0400
TZOFFSETTO:-0500
TZNAME:EST
DTSTART:20241103T060000
END:STANDARD
BEGIN:DAYLIGHT
TZOFFSETFROM:-0500
TZOFFSETTO:-0400
TZNAME:EDT
DTSTART:20250309T070000
END:DAYLIGHT
BEGIN:STANDARD
TZOFFSETFROM:-0400
TZOFFSETTO:-0500
TZNAME:EST
DTSTART:20251102T060000
END:STANDARD
BEGIN:DAYLIGHT
TZOFFSETFROM:-0500
TZOFFSETTO:-0400
TZNAME:EDT
DTSTART:20260308T070000
END:DAYLIGHT
BEGIN:STANDARD
TZOFFSETFROM:-0400
TZOFFSETTO:-0500
TZNAME:EST
DTSTART:20261101T060000
END:STANDARD
END:VTIMEZONE
BEGIN:VEVENT
DTSTART;TZID=America/New_York:20250408T090000
DTEND;TZID=America/New_York:20250408T173000
DTSTAMP:20260419T173402
CREATED:20250204T215136Z
LAST-MODIFIED:20250321T155103Z
UID:80561-1744102800-1744133400@www.njmep.org
SUMMARY:ISO 9001:2015 Internal Auditor Training - Live - Private
DESCRIPTION:Content is protected.
URL:https://www.njmep.org/calendar-event/iso-90012015-internal-auditor-training-live-private/
LOCATION:Kuwata Pan Dent\, 185 Ridgedale Ave\, Cedar Knolls\, NJ\, 07927\, United States
END:VEVENT
BEGIN:VEVENT
DTSTART;TZID=America/New_York:20250408T123000
DTEND;TZID=America/New_York:20250408T163000
DTSTAMP:20260419T173402
CREATED:20241021T203015Z
LAST-MODIFIED:20250409T165903Z
UID:76793-1744115400-1744129800@www.njmep.org
SUMMARY:ISO 9001:2015 Internal Auditor Training - Virtual
DESCRIPTION:4/8\, 4/9\, 4/15\, 4/16/2025
URL:https://www.njmep.org/calendar-event/iso-90012015-internal-auditor-training-virtual-7/
LOCATION:Online
ATTACH;FMTTYPE=image/jpeg:https://www.njmep.org/wp-content/uploads/2022/11/ISO_9001_2015_Internal_Auditing_Training_022223a.jpg
END:VEVENT
END:VCALENDAR