BEGIN:VCALENDAR
VERSION:2.0
PRODID:-//NJMEP - ECPv6.15.20//NONSGML v1.0//EN
CALSCALE:GREGORIAN
METHOD:PUBLISH
X-WR-CALNAME:NJMEP
X-ORIGINAL-URL:https://www.njmep.org
X-WR-CALDESC:Events for NJMEP
REFRESH-INTERVAL;VALUE=DURATION:PT1H
X-Robots-Tag:noindex
X-PUBLISHED-TTL:PT1H
BEGIN:VTIMEZONE
TZID:America/New_York
BEGIN:DAYLIGHT
TZOFFSETFROM:-0500
TZOFFSETTO:-0400
TZNAME:EDT
DTSTART:20240310T070000
END:DAYLIGHT
BEGIN:STANDARD
TZOFFSETFROM:-0400
TZOFFSETTO:-0500
TZNAME:EST
DTSTART:20241103T060000
END:STANDARD
BEGIN:DAYLIGHT
TZOFFSETFROM:-0500
TZOFFSETTO:-0400
TZNAME:EDT
DTSTART:20250309T070000
END:DAYLIGHT
BEGIN:STANDARD
TZOFFSETFROM:-0400
TZOFFSETTO:-0500
TZNAME:EST
DTSTART:20251102T060000
END:STANDARD
BEGIN:DAYLIGHT
TZOFFSETFROM:-0500
TZOFFSETTO:-0400
TZNAME:EDT
DTSTART:20260308T070000
END:DAYLIGHT
BEGIN:STANDARD
TZOFFSETFROM:-0400
TZOFFSETTO:-0500
TZNAME:EST
DTSTART:20261101T060000
END:STANDARD
END:VTIMEZONE
BEGIN:VEVENT
DTSTART;TZID=America/New_York:20250430T110000
DTEND;TZID=America/New_York:20250430T120000
DTSTAMP:20260419T143603
CREATED:20250213T143924Z
LAST-MODIFIED:20250618T145813Z
UID:80861-1746010800-1746014400@www.njmep.org
SUMMARY:Financing Manufacturing: Bank & Alternative Strategies
DESCRIPTION:Manufacturers have more funding solutions available than many businesses realize. NJMEP and Affiliate Partner Rosenthal & Rosenthal invite you to an interactive workshop featuring insights from traditional banks like Provident Bank\, the SBA\, and alternative lenders to explore the full spectrum of financing options. From trade credit insurance and working capital guarantees to collaborative funding approaches\, we’ll discuss how manufacturers can overcome common credit hurdles and access the capital they need. Attendees will gain a clearer understanding of how different financial institutions—both traditional and non-traditional—can work together to provide manufacturers with more flexible\, effective funding solutions. Don’t miss this opportunity to ask questions\, share challenges\, and discover new ways to finance your business.
URL:https://www.njmep.org/calendar-event/financing-strategies-for-manufacturers-bridging-the-gap-between-banks-and-non-bank-lenders/
LOCATION:Online
ATTACH;FMTTYPE=image/jpeg:https://www.njmep.org/wp-content/uploads/2025/02/Financing-Manufacturing_2025.jpg
END:VEVENT
END:VCALENDAR