BEGIN:VCALENDAR
VERSION:2.0
PRODID:-//NJMEP - ECPv6.15.20//NONSGML v1.0//EN
CALSCALE:GREGORIAN
METHOD:PUBLISH
X-WR-CALNAME:NJMEP
X-ORIGINAL-URL:https://www.njmep.org
X-WR-CALDESC:Events for NJMEP
REFRESH-INTERVAL;VALUE=DURATION:PT1H
X-Robots-Tag:noindex
X-PUBLISHED-TTL:PT1H
BEGIN:VTIMEZONE
TZID:America/New_York
BEGIN:DAYLIGHT
TZOFFSETFROM:-0500
TZOFFSETTO:-0400
TZNAME:EDT
DTSTART:20240310T070000
END:DAYLIGHT
BEGIN:STANDARD
TZOFFSETFROM:-0400
TZOFFSETTO:-0500
TZNAME:EST
DTSTART:20241103T060000
END:STANDARD
BEGIN:DAYLIGHT
TZOFFSETFROM:-0500
TZOFFSETTO:-0400
TZNAME:EDT
DTSTART:20250309T070000
END:DAYLIGHT
BEGIN:STANDARD
TZOFFSETFROM:-0400
TZOFFSETTO:-0500
TZNAME:EST
DTSTART:20251102T060000
END:STANDARD
BEGIN:DAYLIGHT
TZOFFSETFROM:-0500
TZOFFSETTO:-0400
TZNAME:EDT
DTSTART:20260308T070000
END:DAYLIGHT
BEGIN:STANDARD
TZOFFSETFROM:-0400
TZOFFSETTO:-0500
TZNAME:EST
DTSTART:20261101T060000
END:STANDARD
END:VTIMEZONE
BEGIN:VEVENT
DTSTART;TZID=America/New_York:20250611T083000
DTEND;TZID=America/New_York:20250611T170000
DTSTAMP:20260419T132418
CREATED:20241108T214556Z
LAST-MODIFIED:20250606T155012Z
UID:77669-1749630600-1749661200@www.njmep.org
SUMMARY:Food Safety - Cleaning & Sanitation - North
DESCRIPTION:
URL:https://www.njmep.org/calendar-event/food-safety-cleaning-sanitation-north/
LOCATION:NJMEP North 2 Ridgedale Ave\, Suite 305\, Cedar Knolls\, NJ 07927\, 2 Ridgedale Ave\, Cedar Knolls\, NJ\, 07927\, United States
ATTACH;FMTTYPE=image/jpeg:https://www.njmep.org/wp-content/uploads/2023/01/Food_Safety_Cleaning_and_Sanitation_021523a.jpg
END:VEVENT
BEGIN:VEVENT
DTSTART;TZID=America/New_York:20250611T083000
DTEND;TZID=America/New_York:20250611T170000
DTSTAMP:20260419T132418
CREATED:20241108T214952Z
LAST-MODIFIED:20250630T121818Z
UID:77675-1749630600-1749661200@www.njmep.org
SUMMARY:Project Management Professional (PMP®) Certification Exam Prep Course - North
DESCRIPTION:6/11\, 6/12\, 6/13\, 6/25\, 6/26\, 6/27/2025
URL:https://www.njmep.org/calendar-event/project-management-professional-pmp-certification-exam-prep-course-north/
LOCATION:NJMEP North 2 Ridgedale Ave\, Suite 305\, Cedar Knolls\, NJ 07927\, 2 Ridgedale Ave\, Cedar Knolls\, NJ\, 07927\, United States
ATTACH;FMTTYPE=image/jpeg:https://www.njmep.org/wp-content/uploads/2023/01/Project_Management_PMP_011923a.jpg
END:VEVENT
END:VCALENDAR