BEGIN:VCALENDAR
VERSION:2.0
PRODID:-//NJMEP - ECPv6.15.20//NONSGML v1.0//EN
CALSCALE:GREGORIAN
METHOD:PUBLISH
X-ORIGINAL-URL:https://www.njmep.org
X-WR-CALDESC:Events for NJMEP
REFRESH-INTERVAL;VALUE=DURATION:PT1H
X-Robots-Tag:noindex
X-PUBLISHED-TTL:PT1H
BEGIN:VTIMEZONE
TZID:America/New_York
BEGIN:DAYLIGHT
TZOFFSETFROM:-0500
TZOFFSETTO:-0400
TZNAME:EDT
DTSTART:20250309T070000
END:DAYLIGHT
BEGIN:STANDARD
TZOFFSETFROM:-0400
TZOFFSETTO:-0500
TZNAME:EST
DTSTART:20251102T060000
END:STANDARD
BEGIN:DAYLIGHT
TZOFFSETFROM:-0500
TZOFFSETTO:-0400
TZNAME:EDT
DTSTART:20260308T070000
END:DAYLIGHT
BEGIN:STANDARD
TZOFFSETFROM:-0400
TZOFFSETTO:-0500
TZNAME:EST
DTSTART:20261101T060000
END:STANDARD
BEGIN:DAYLIGHT
TZOFFSETFROM:-0500
TZOFFSETTO:-0400
TZNAME:EDT
DTSTART:20270314T070000
END:DAYLIGHT
BEGIN:STANDARD
TZOFFSETFROM:-0400
TZOFFSETTO:-0500
TZNAME:EST
DTSTART:20271107T060000
END:STANDARD
END:VTIMEZONE
BEGIN:VEVENT
DTSTART;TZID=America/New_York:20260311T110000
DTEND;TZID=America/New_York:20260311T120000
DTSTAMP:20260421T044231
CREATED:20260212T153315Z
LAST-MODIFIED:20260306T170937Z
UID:88660-1773226800-1773230400@www.njmep.org
SUMMARY:The One Big Beautiful Bill Act: Key Impacts\, Risks\, & Watchouts
DESCRIPTION:The One Big Beautiful Bill Act: Key Impacts\, Risks\, & Watchouts\n3/11/2026\nThe One Big Beautiful Bill Act introduces new federal policy changes that could significantly affect manufacturers in New Jersey. \nFrom tax structures and incentives to evolving regulations\, this legislation raises important questions: How does it apply to your business? What needs attention now? What could shift your plans later this year? \nTo provide clarity\, NJMEP has partnered with Withum to lead a focused discussion on the One Big Beautiful Bill Act and what it means for manufacturers operating in New Jersey. Withum’s experts will walk through the most relevant elements of the legislation\, outline potential implications for manufacturers\, and highlight key areas to monitor as guidance continues to develop. \nThis session will help manufacturers better understand what’s changing and identify potential areas of impact on their organization. \nJoin the conversation to stay informed and ready for the changes ahead.
URL:https://www.njmep.org/calendar-event/the-one-big-beautiful-bill-act-key-impacts-risks-watchouts/
LOCATION:Online
ATTACH;FMTTYPE=image/jpeg:https://www.njmep.org/wp-content/uploads/2026/02/OBBBA.jpg
END:VEVENT
END:VCALENDAR