BEGIN:VCALENDAR
VERSION:2.0
PRODID:-//NJMEP - ECPv6.15.20//NONSGML v1.0//EN
CALSCALE:GREGORIAN
METHOD:PUBLISH
X-ORIGINAL-URL:https://www.njmep.org
X-WR-CALDESC:Events for NJMEP
REFRESH-INTERVAL;VALUE=DURATION:PT1H
X-Robots-Tag:noindex
X-PUBLISHED-TTL:PT1H
BEGIN:VTIMEZONE
TZID:America/New_York
BEGIN:DAYLIGHT
TZOFFSETFROM:-0500
TZOFFSETTO:-0400
TZNAME:EDT
DTSTART:20250309T070000
END:DAYLIGHT
BEGIN:STANDARD
TZOFFSETFROM:-0400
TZOFFSETTO:-0500
TZNAME:EST
DTSTART:20251102T060000
END:STANDARD
BEGIN:DAYLIGHT
TZOFFSETFROM:-0500
TZOFFSETTO:-0400
TZNAME:EDT
DTSTART:20260308T070000
END:DAYLIGHT
BEGIN:STANDARD
TZOFFSETFROM:-0400
TZOFFSETTO:-0500
TZNAME:EST
DTSTART:20261101T060000
END:STANDARD
BEGIN:DAYLIGHT
TZOFFSETFROM:-0500
TZOFFSETTO:-0400
TZNAME:EDT
DTSTART:20270314T070000
END:DAYLIGHT
BEGIN:STANDARD
TZOFFSETFROM:-0400
TZOFFSETTO:-0500
TZNAME:EST
DTSTART:20271107T060000
END:STANDARD
END:VTIMEZONE
BEGIN:VEVENT
DTSTART;TZID=America/New_York:20260327T083000
DTEND;TZID=America/New_York:20260327T170000
DTSTAMP:20260421T044207
CREATED:20251222T165421Z
LAST-MODIFIED:20260310T154636Z
UID:88106-1774600200-1774630800@www.njmep.org
SUMMARY:Time Management and Goal Setting - North
DESCRIPTION:3/27/2026\nToday’s work environment requires managers and individual contributors alike to manage multiple priorities and conflicting demands on time. This course will offer participants an opportunity to understand their time management needs and develop a process for managing them. \nTopics covered include: \n• Understanding Time management\n• The 12 characteristics of effective Time managers\n• Understanding event control\n• The productivity tri-quation\n• Planning: the key to control\n• Prioritizing: ordering events\n• The Productivity Pyramid\, and building the Productivity Pyramid\n• Defining\, identifying and prioritizing my Governing Values\n• Clarifying my Governing Values\n• Understanding long-range goals\n• Setting Long-range goals\n• Identifying intermediate steps\n• Capturing today: The Critical Moment\n• Quadrant II Time management\n• Importance versus urgency\n• Time wasters and time robbers\n• Controlling procrastination\n• Understanding and controlling Interruption\n• Improving meeting effectiveness\n• Organizing and managing your workspace\n• Tips for working with multiple managers\n• Managing delegation\n• Time management planners\n• Franklin Planners\, Day Planners\, Software planner\n• Personal need assessment \nUpon completion of this course\, the participants will: \n• Identify and minimize time wasters\,\n• Be able to set daily\, weekly and monthly work orders and production schedules\,\n• Develop methods to manage varying workloads that will lead to higher productivity and improvement of quality.
URL:https://www.njmep.org/calendar-event/time-management-and-goal-setting-north/
LOCATION:NJMEP North 2 Ridgedale Ave\, Suite 305\, Cedar Knolls\, NJ 07927\, 2 Ridgedale Ave\, Cedar Knolls\, NJ\, 07927\, United States
ATTACH;FMTTYPE=image/jpeg:https://www.njmep.org/wp-content/uploads/2022/03/time_management_and_goal-setting_2025.jpg
END:VEVENT
END:VCALENDAR