BEGIN:VCALENDAR
VERSION:2.0
PRODID:-//NJMEP - ECPv6.15.20//NONSGML v1.0//EN
CALSCALE:GREGORIAN
METHOD:PUBLISH
X-WR-CALNAME:NJMEP
X-ORIGINAL-URL:https://www.njmep.org
X-WR-CALDESC:Events for NJMEP
REFRESH-INTERVAL;VALUE=DURATION:PT1H
X-Robots-Tag:noindex
X-PUBLISHED-TTL:PT1H
BEGIN:VTIMEZONE
TZID:America/New_York
BEGIN:DAYLIGHT
TZOFFSETFROM:-0500
TZOFFSETTO:-0400
TZNAME:EDT
DTSTART:20250309T070000
END:DAYLIGHT
BEGIN:STANDARD
TZOFFSETFROM:-0400
TZOFFSETTO:-0500
TZNAME:EST
DTSTART:20251102T060000
END:STANDARD
BEGIN:DAYLIGHT
TZOFFSETFROM:-0500
TZOFFSETTO:-0400
TZNAME:EDT
DTSTART:20260308T070000
END:DAYLIGHT
BEGIN:STANDARD
TZOFFSETFROM:-0400
TZOFFSETTO:-0500
TZNAME:EST
DTSTART:20261101T060000
END:STANDARD
BEGIN:DAYLIGHT
TZOFFSETFROM:-0500
TZOFFSETTO:-0400
TZNAME:EDT
DTSTART:20270314T070000
END:DAYLIGHT
BEGIN:STANDARD
TZOFFSETFROM:-0400
TZOFFSETTO:-0500
TZNAME:EST
DTSTART:20271107T060000
END:STANDARD
END:VTIMEZONE
BEGIN:VEVENT
DTSTART;TZID=America/New_York:20260423T110000
DTEND;TZID=America/New_York:20260423T120000
DTSTAMP:20260423T023044
CREATED:20260310T193459Z
LAST-MODIFIED:20260312T162500Z
UID:89547-1776942000-1776945600@www.njmep.org
SUMMARY:How AI is Changing the Way Your Customers Buy (And What to Do About It)
DESCRIPTION:4/23/2026\nYour buyers have a new secret advisor — and it’s not your sales team. It’s AI. \nEvery day\, buyers are asking tools like ChatGPT and Google’s AI Overviews the very questions they used to ask you:\n• “Who are the best suppliers for [your product/service]?”\n• “What problems should I watch out for with [your solution]?”\n• “How does [your company] compare to [your competitor]?” \nIf you’re not showing up in those answers\, you’re invisible — and AI is pointing buyers to your competitors instead. You don’t control what AI says. But you can shape the answers buyers see.\nIn this practical\, plain-English webinar\, you’ll get a clear plan to stay visible\, trusted\, and chosen. You will learn:\n• Why traditional SEO and marketing tactics are failing in the AI era\n• The five questions AI answers for your buyers — and how to shape those answers\n• What AI actually looks for when deciding which companies to recommend\n• A practical\, non-technical roadmap to turn AI into your competitive advantage
URL:https://www.njmep.org/calendar-event/how-ai-is-changing-the-way-your-customers-buy-and-what-to-do-about-it/
LOCATION:Online
END:VEVENT
BEGIN:VEVENT
DTSTART;TZID=America/New_York:20260423T150000
DTEND;TZID=America/New_York:20260423T160000
DTSTAMP:20260423T023044
CREATED:20260415T185529Z
LAST-MODIFIED:20260417T145630Z
UID:89933-1776956400-1776960000@www.njmep.org
SUMMARY:International Emergency Economic Powers Act (IEEPA) – Tariff Refunds are available!
DESCRIPTION:4/23/2026\nJoin the New Jersey Manufacturing Extension Program (NJMEP) for an informative webinar on navigating refund opportunities under the International Emergency Economic Powers Act (IEEPA). This session is designed to help manufacturers and businesses understand how tariffs\, duties\, or penalties imposed under IEEPA may be eligible for recovery. \nParticipants will gain insight into the regulatory framework of IEEPA\, recent policy developments\, and practical steps for identifying and filing refund claims. The webinar will also cover documentation requirements\, timelines\, and common pitfalls to avoid\, along with real-world examples relevant to New Jersey manufacturers. \nWhether your company imports materials\, components\, or finished goods\, this session will provide valuable guidance to help you assess potential cost recovery opportunities and improve your bottom line.
URL:https://www.njmep.org/calendar-event/international-emergency-economic-powers-act-ieepa-tariff-refunds-are-available/
LOCATION:Online
ATTACH;FMTTYPE=image/jpeg:https://www.njmep.org/wp-content/uploads/2026/01/NJMEP_BG_GREY-1.jpg
END:VEVENT
END:VCALENDAR