BEGIN:VCALENDAR
VERSION:2.0
PRODID:-//NJMEP - ECPv6.15.20//NONSGML v1.0//EN
CALSCALE:GREGORIAN
METHOD:PUBLISH
X-WR-CALNAME:NJMEP
X-ORIGINAL-URL:https://www.njmep.org
X-WR-CALDESC:Events for NJMEP
REFRESH-INTERVAL;VALUE=DURATION:PT1H
X-Robots-Tag:noindex
X-PUBLISHED-TTL:PT1H
BEGIN:VTIMEZONE
TZID:UTC
BEGIN:STANDARD
TZOFFSETFROM:+0000
TZOFFSETTO:+0000
TZNAME:UTC
DTSTART:20190101T000000
END:STANDARD
END:VTIMEZONE
BEGIN:VTIMEZONE
TZID:America/New_York
BEGIN:DAYLIGHT
TZOFFSETFROM:-0500
TZOFFSETTO:-0400
TZNAME:EDT
DTSTART:20190310T070000
END:DAYLIGHT
BEGIN:STANDARD
TZOFFSETFROM:-0400
TZOFFSETTO:-0500
TZNAME:EST
DTSTART:20191103T060000
END:STANDARD
BEGIN:DAYLIGHT
TZOFFSETFROM:-0500
TZOFFSETTO:-0400
TZNAME:EDT
DTSTART:20200308T070000
END:DAYLIGHT
BEGIN:STANDARD
TZOFFSETFROM:-0400
TZOFFSETTO:-0500
TZNAME:EST
DTSTART:20201101T060000
END:STANDARD
BEGIN:DAYLIGHT
TZOFFSETFROM:-0500
TZOFFSETTO:-0400
TZNAME:EDT
DTSTART:20210314T070000
END:DAYLIGHT
BEGIN:STANDARD
TZOFFSETFROM:-0400
TZOFFSETTO:-0500
TZNAME:EST
DTSTART:20211107T060000
END:STANDARD
BEGIN:DAYLIGHT
TZOFFSETFROM:-0500
TZOFFSETTO:-0400
TZNAME:EDT
DTSTART:20220313T070000
END:DAYLIGHT
BEGIN:STANDARD
TZOFFSETFROM:-0400
TZOFFSETTO:-0500
TZNAME:EST
DTSTART:20221106T060000
END:STANDARD
BEGIN:DAYLIGHT
TZOFFSETFROM:-0500
TZOFFSETTO:-0400
TZNAME:EDT
DTSTART:20230312T070000
END:DAYLIGHT
BEGIN:STANDARD
TZOFFSETFROM:-0400
TZOFFSETTO:-0500
TZNAME:EST
DTSTART:20231105T060000
END:STANDARD
BEGIN:DAYLIGHT
TZOFFSETFROM:-0500
TZOFFSETTO:-0400
TZNAME:EDT
DTSTART:20240310T070000
END:DAYLIGHT
BEGIN:STANDARD
TZOFFSETFROM:-0400
TZOFFSETTO:-0500
TZNAME:EST
DTSTART:20241103T060000
END:STANDARD
BEGIN:DAYLIGHT
TZOFFSETFROM:-0500
TZOFFSETTO:-0400
TZNAME:EDT
DTSTART:20250309T070000
END:DAYLIGHT
BEGIN:STANDARD
TZOFFSETFROM:-0400
TZOFFSETTO:-0500
TZNAME:EST
DTSTART:20251102T060000
END:STANDARD
END:VTIMEZONE
BEGIN:VEVENT
DTSTART;TZID=UTC:20200426T110000
DTEND;TZID=UTC:20220810T120000
DTSTAMP:20260422T124704
CREATED:20220810T141638Z
LAST-MODIFIED:20220810T141638Z
UID:55933-1587898800-1660132800@www.njmep.org
SUMMARY:Preparing Your Food Company for a Post-COVID  ‘New Normal’
DESCRIPTION:Webinar – Provide food manufacturers with actionable measures to make their workplace COVID safe for employees\, position companies to navigate out of the COVID challenge focusing on business growth – “The New Normal”
URL:https://www.njmep.org/calendar-event/preparing-your-food-company-for-a-post-covid-new-normal/
LOCATION:NJ
END:VEVENT
BEGIN:VEVENT
DTSTART;TZID=America/New_York:20200427T110000
DTEND;TZID=America/New_York:20241118T120000
DTSTAMP:20260422T124704
CREATED:20241118T010128Z
LAST-MODIFIED:20241118T010128Z
UID:77968-1587985200-1731931200@www.njmep.org
SUMMARY:Preparing Your Food Company for a Post-COVID  ‘New Normal’
DESCRIPTION:Webinar – Provide food manufacturers with actionable measures to make their workplace COVID safe for employees\, position companies to navigate out of the COVID challenge focusing on business growth – “The New Normal”
URL:https://www.njmep.org/calendar-event/preparing-your-food-company-for-a-post-covid-new-normal-2/
LOCATION:NJ
END:VEVENT
BEGIN:VEVENT
DTSTART;TZID=America/New_York:20201101T000000
DTEND;TZID=America/New_York:20240506T000000
DTSTAMP:20260422T124704
CREATED:20240506T172513Z
LAST-MODIFIED:20240506T172513Z
UID:71046-1604188800-1714953600@www.njmep.org
SUMMARY:Food Recall & Withdrawals Online (November 2020)
DESCRIPTION:“A food recall is either a food manufacturer or suppliers’ voluntary response to a mislabeling\, or potential hazard by removing a product from the market place or it is mandated by the FDA in response to a food safety issue determined. The most common reasons for food recalls are allergen mislabeling and the presence of pathogens. Other reasons behind food recalls include incorrect packaging\, wrong food labels and physical contamination.\nThe importance of having a food recall plan is to ensure quick and efficient removal of affected products from the market plane and to allow the identification of key areas of needed improvement to prevent future hazards. Recall and withdrawal procedures are required for food manufacturers under the final FDA Food Safety Modernization Act (FSMA) rule for “Preventative Controls for Human Foods for hazards requiring control.”
URL:https://www.njmep.org/calendar-event/food-recall-withdrawals-online-november-2020/
LOCATION:NJ
END:VEVENT
BEGIN:VEVENT
DTSTART;TZID=America/New_York:20220119T000000
DTEND;TZID=America/New_York:20220224T123000
DTSTAMP:20260422T124704
CREATED:20220228T165022Z
LAST-MODIFIED:20220228T165022Z
UID:50722-1642550400-1645705800@www.njmep.org
SUMMARY:Six Sigma Green Belt Certification Training
DESCRIPTION:
URL:https://www.njmep.org/calendar-event/six-sigma-green-belt-certification-training/
LOCATION:NJ
END:VEVENT
BEGIN:VEVENT
DTSTART;TZID=UTC:20220120T000000
DTEND;TZID=UTC:20220225T123000
DTSTAMP:20260422T124704
CREATED:20221021T132759Z
LAST-MODIFIED:20221021T132759Z
UID:57670-1642636800-1645792200@www.njmep.org
SUMMARY:Six Sigma Green Belt Certification Training
DESCRIPTION:
URL:https://www.njmep.org/calendar-event/six-sigma-green-belt-certification-training-11/
LOCATION:NJ
END:VEVENT
BEGIN:VEVENT
DTSTART;TZID=America/New_York:20220120T000000
DTEND;TZID=America/New_York:20220225T123000
DTSTAMP:20260422T124704
CREATED:20241007T203206Z
LAST-MODIFIED:20241007T203206Z
UID:76425-1642636800-1645792200@www.njmep.org
SUMMARY:Six Sigma Green Belt Certification Training
DESCRIPTION:
URL:https://www.njmep.org/calendar-event/six-sigma-green-belt-certification-training-25/
LOCATION:NJ
END:VEVENT
BEGIN:VEVENT
DTSTART;TZID=America/New_York:20220220T000000
DTEND;TZID=America/New_York:20220222T000000
DTSTAMP:20260422T124704
CREATED:20220315T202049Z
LAST-MODIFIED:20220315T202049Z
UID:53220-1645315200-1645488000@www.njmep.org
SUMMARY:FSPCA Preventive Controls for Human Food (formerly PCQI)
DESCRIPTION:
URL:https://www.njmep.org/calendar-event/fspca-preventive-controls-for-human-food-formerly-pcqi-3/
LOCATION:NJ
END:VEVENT
BEGIN:VEVENT
DTSTART;TZID=America/New_York:20220220T000000
DTEND;TZID=America/New_York:20220228T123000
DTSTAMP:20260422T124704
CREATED:20220315T202049Z
LAST-MODIFIED:20220315T202049Z
UID:53218-1645315200-1646051400@www.njmep.org
SUMMARY:NJMEP's Virtual Supply Chain Training Series
DESCRIPTION:
URL:https://www.njmep.org/calendar-event/njmeps-virtual-supply-chain-training-series-2/
LOCATION:NJ
END:VEVENT
BEGIN:VEVENT
DTSTART;TZID=UTC:20220221T000000
DTEND;TZID=UTC:20220223T000000
DTSTAMP:20260422T124704
CREATED:20220315T134206Z
LAST-MODIFIED:20220315T201950Z
UID:53084-1645401600-1645574400@www.njmep.org
SUMMARY:FSPCA Preventive Controls for Human Food (formerly PCQI)
DESCRIPTION:
URL:https://www.njmep.org/calendar-event/fspca-preventive-controls-for-human-food-formerly-pcqi-2/
LOCATION:NJ
ATTACH;FMTTYPE=image/jpeg:https://www.njmep.org/wp-content/uploads/2023/03/Food_Safety_PCQI_2023.jpg
END:VEVENT
BEGIN:VEVENT
DTSTART;TZID=America/New_York:20220221T000000
DTEND;TZID=America/New_York:20220301T123000
DTSTAMP:20260422T124704
CREATED:20220314T014835Z
LAST-MODIFIED:20220315T201930Z
UID:52762-1645401600-1646137800@www.njmep.org
SUMMARY:NJMEP's Virtual Supply Chain Training Series
DESCRIPTION:
URL:https://www.njmep.org/calendar-event/njmeps-virtual-supply-chain-training-series/
LOCATION:NJ
END:VEVENT
BEGIN:VEVENT
DTSTART;TZID=America/New_York:20220221T000000
DTEND;TZID=America/New_York:20220301T123000
DTSTAMP:20260422T124704
CREATED:20240506T172209Z
LAST-MODIFIED:20240506T172209Z
UID:70960-1645401600-1646137800@www.njmep.org
SUMMARY:NJMEP's Virtual Supply Chain Training Series
DESCRIPTION:
URL:https://www.njmep.org/calendar-event/njmeps-virtual-supply-chain-training-series-4/
LOCATION:NJ
END:VEVENT
BEGIN:VEVENT
DTSTART;TZID=America/New_York:20220222T083000
DTEND;TZID=America/New_York:20220222T123000
DTSTAMP:20260422T124704
CREATED:20220315T202048Z
LAST-MODIFIED:20220315T202048Z
UID:53216-1645518600-1645533000@www.njmep.org
SUMMARY:Succession Planning and Building the Value of Your Business
DESCRIPTION:
URL:https://www.njmep.org/calendar-event/succession-planning-and-building-the-value-of-your-business-7/
LOCATION:NJ
END:VEVENT
BEGIN:VEVENT
DTSTART;TZID=UTC:20220223T000000
DTEND;TZID=UTC:20220223T000000
DTSTAMP:20260422T124704
CREATED:20220315T134205Z
LAST-MODIFIED:20220315T134205Z
UID:53081-1645574400-1645574400@www.njmep.org
SUMMARY:Introduction to ISO 27001 Basics
DESCRIPTION:
URL:https://www.njmep.org/calendar-event/introduction-to-iso-27001-basics/
LOCATION:NJ
END:VEVENT
BEGIN:VEVENT
DTSTART;TZID=America/New_York:20220223T000000
DTEND;TZID=America/New_York:20220223T000000
DTSTAMP:20260422T124704
CREATED:20220420T151405Z
LAST-MODIFIED:20220420T151405Z
UID:53668-1645574400-1645574400@www.njmep.org
SUMMARY:Introduction to ISO 27001 Basics
DESCRIPTION:
URL:https://www.njmep.org/calendar-event/introduction-to-iso-27001-basics-2/
LOCATION:NJ
END:VEVENT
BEGIN:VEVENT
DTSTART;TZID=America/New_York:20220223T083000
DTEND;TZID=America/New_York:20220223T123000
DTSTAMP:20260422T124704
CREATED:20220314T014835Z
LAST-MODIFIED:20220315T201850Z
UID:52764-1645605000-1645619400@www.njmep.org
SUMMARY:Succession Planning and Building the Value of Your Business
DESCRIPTION:
URL:https://www.njmep.org/calendar-event/succession-planning-and-building-the-value-of-your-business/
LOCATION:NJ
END:VEVENT
BEGIN:VEVENT
DTSTART;TZID=America/New_York:20220223T083000
DTEND;TZID=America/New_York:20220223T123000
DTSTAMP:20260422T124704
CREATED:20240506T172210Z
LAST-MODIFIED:20240506T172210Z
UID:70962-1645605000-1645619400@www.njmep.org
SUMMARY:Succession Planning and Building the Value of Your Business
DESCRIPTION:
URL:https://www.njmep.org/calendar-event/succession-planning-and-building-the-value-of-your-business-17/
LOCATION:NJ
END:VEVENT
BEGIN:VEVENT
DTSTART;TZID=UTC:20220224T000000
DTEND;TZID=UTC:20220224T000000
DTSTAMP:20260422T124704
CREATED:20221021T132805Z
LAST-MODIFIED:20221021T132805Z
UID:57687-1645660800-1645660800@www.njmep.org
SUMMARY:Introduction to ISO 27001 Basics
DESCRIPTION:
URL:https://www.njmep.org/calendar-event/introduction-to-iso-27001-basics-3/
LOCATION:NJ
END:VEVENT
BEGIN:VEVENT
DTSTART;TZID=America/New_York:20220228T123000
DTEND;TZID=America/New_York:20220301T043000
DTSTAMP:20260422T124704
CREATED:20220315T201853Z
LAST-MODIFIED:20220315T201853Z
UID:53210-1646051400-1646109000@www.njmep.org
SUMMARY:Food Safety - Cleaning and Sanitation
DESCRIPTION:
URL:https://www.njmep.org/calendar-event/food-safety-cleaning-and-sanitation-2/
LOCATION:NJ
END:VEVENT
BEGIN:VEVENT
DTSTART;TZID=America/New_York:20220301T000000
DTEND;TZID=America/New_York:20220301T000000
DTSTAMP:20260422T124704
CREATED:20220315T201853Z
LAST-MODIFIED:20220315T201853Z
UID:53208-1646092800-1646092800@www.njmep.org
SUMMARY:Virtual - Annual Hazard-Communication Training "Hazwoper Basics"
DESCRIPTION:
URL:https://www.njmep.org/calendar-event/virtual-annual-hazard-communication-training-hazwoper-basics-3/
LOCATION:NJ
END:VEVENT
BEGIN:VEVENT
DTSTART;TZID=America/New_York:20220301T000000
DTEND;TZID=America/New_York:20220301T123000
DTSTAMP:20260422T124704
CREATED:20220324T144636Z
LAST-MODIFIED:20220324T144636Z
UID:53300-1646092800-1646137800@www.njmep.org
SUMMARY:Team Effectiveness & Team Building
DESCRIPTION:
URL:https://www.njmep.org/calendar-event/team-effectiveness-team-building-3/
LOCATION:NJ
END:VEVENT
BEGIN:VEVENT
DTSTART;TZID=America/New_York:20220301T123000
DTEND;TZID=America/New_York:20220302T043000
DTSTAMP:20260422T124704
CREATED:20220224T155242Z
LAST-MODIFIED:20220315T201836Z
UID:50687-1646137800-1646195400@www.njmep.org
SUMMARY:Food Safety - Cleaning and Sanitation
DESCRIPTION:
URL:https://www.njmep.org/calendar-event/food-safety-cleaning-and-sanitation/
LOCATION:NJ
ATTACH;FMTTYPE=image/jpeg:https://www.njmep.org/wp-content/uploads/2023/01/Food_Safety_Cleaning_and_Sanitation_021523a.jpg
END:VEVENT
BEGIN:VEVENT
DTSTART;TZID=America/New_York:20220302T000000
DTEND;TZID=America/New_York:20220302T000000
DTSTAMP:20260422T124704
CREATED:20220311T212328Z
LAST-MODIFIED:20220315T201823Z
UID:52680-1646179200-1646179200@www.njmep.org
SUMMARY:Virtual - Annual Hazard-Communication Training "Hazwoper Basics"
DESCRIPTION:
URL:https://www.njmep.org/calendar-event/virtual-annual-hazard-communication-training-hazwoper-basics/
LOCATION:NJ
ATTACH;FMTTYPE=image/jpeg:https://www.njmep.org/wp-content/uploads/2023/03/Hazard-_Comm_Hazwoper_2023a.jpg
END:VEVENT
BEGIN:VEVENT
DTSTART;TZID=UTC:20220302T000000
DTEND;TZID=UTC:20220302T000000
DTSTAMP:20260422T124704
CREATED:20230120T211354Z
LAST-MODIFIED:20230120T211354Z
UID:60175-1646179200-1646179200@www.njmep.org
SUMMARY:Virtual - Annual Hazard-Communication Training "Hazwoper Basics"
DESCRIPTION:
URL:https://www.njmep.org/calendar-event/virtual-annual-hazard-communication-training-hazwoper-basics-6/
LOCATION:NJ
END:VEVENT
BEGIN:VEVENT
DTSTART;TZID=America/New_York:20220305T000000
DTEND;TZID=America/New_York:20220305T000000
DTSTAMP:20260422T124704
CREATED:20220315T201746Z
LAST-MODIFIED:20220315T201746Z
UID:53197-1646438400-1646438400@www.njmep.org
SUMMARY:First Aid Training - CPR AED
DESCRIPTION:
URL:https://www.njmep.org/calendar-event/first-aid-training-cpr-aed-5/
LOCATION:NJ
END:VEVENT
BEGIN:VEVENT
DTSTART;TZID=America/New_York:20220305T000000
DTEND;TZID=America/New_York:20220305T000000
DTSTAMP:20260422T124704
CREATED:20220315T201851Z
LAST-MODIFIED:20220315T201851Z
UID:53204-1646438400-1646438400@www.njmep.org
SUMMARY:First Aid Training - CPR AED
DESCRIPTION:
URL:https://www.njmep.org/calendar-event/first-aid-training-cpr-aed-6/
LOCATION:NJ
END:VEVENT
BEGIN:VEVENT
DTSTART;TZID=America/New_York:20220305T000000
DTEND;TZID=America/New_York:20220305T000000
DTSTAMP:20260422T124704
CREATED:20220315T201852Z
LAST-MODIFIED:20220315T201852Z
UID:53206-1646438400-1646438400@www.njmep.org
SUMMARY:First Aid Training - CPR AED
DESCRIPTION:
URL:https://www.njmep.org/calendar-event/first-aid-training-cpr-aed-7/
LOCATION:NJ
END:VEVENT
BEGIN:VEVENT
DTSTART;TZID=America/New_York:20220305T000000
DTEND;TZID=America/New_York:20220305T000000
DTSTAMP:20260422T124704
CREATED:20220420T151604Z
LAST-MODIFIED:20220420T151604Z
UID:53670-1646438400-1646438400@www.njmep.org
SUMMARY:First Aid Training - CPR AED
DESCRIPTION:
URL:https://www.njmep.org/calendar-event/first-aid-training-cpr-aed-8/
LOCATION:NJ
END:VEVENT
BEGIN:VEVENT
DTSTART;TZID=America/New_York:20220306T000000
DTEND;TZID=America/New_York:20220306T000000
DTSTAMP:20260422T124704
CREATED:20220315T133152Z
LAST-MODIFIED:20220315T201806Z
UID:52923-1646524800-1646524800@www.njmep.org
SUMMARY:First Aid Training - CPR AED
DESCRIPTION:
URL:https://www.njmep.org/calendar-event/first-aid-training-cpr-aed/
LOCATION:NJ
END:VEVENT
BEGIN:VEVENT
DTSTART;TZID=America/New_York:20220306T000000
DTEND;TZID=America/New_York:20220306T000000
DTSTAMP:20260422T124704
CREATED:20220315T133252Z
LAST-MODIFIED:20220315T201752Z
UID:52926-1646524800-1646524800@www.njmep.org
SUMMARY:First Aid Training - CPR AED
DESCRIPTION:
URL:https://www.njmep.org/calendar-event/first-aid-training-cpr-aed-2/
LOCATION:NJ
END:VEVENT
BEGIN:VEVENT
DTSTART;TZID=UTC:20220306T000000
DTEND;TZID=UTC:20220306T000000
DTSTAMP:20260422T124704
CREATED:20220315T134204Z
LAST-MODIFIED:20220315T201710Z
UID:53076-1646524800-1646524800@www.njmep.org
SUMMARY:First Aid Training - CPR AED
DESCRIPTION:
URL:https://www.njmep.org/calendar-event/first-aid-training-cpr-aed-3/
LOCATION:NJ
END:VEVENT
END:VCALENDAR