BEGIN:VCALENDAR
VERSION:2.0
PRODID:-//NJMEP - ECPv6.15.20//NONSGML v1.0//EN
CALSCALE:GREGORIAN
METHOD:PUBLISH
X-ORIGINAL-URL:https://www.njmep.org
X-WR-CALDESC:Events for NJMEP
REFRESH-INTERVAL;VALUE=DURATION:PT1H
X-Robots-Tag:noindex
X-PUBLISHED-TTL:PT1H
BEGIN:VTIMEZONE
TZID:America/New_York
BEGIN:DAYLIGHT
TZOFFSETFROM:-0500
TZOFFSETTO:-0400
TZNAME:EDT
DTSTART:20190310T070000
END:DAYLIGHT
BEGIN:STANDARD
TZOFFSETFROM:-0400
TZOFFSETTO:-0500
TZNAME:EST
DTSTART:20191103T060000
END:STANDARD
BEGIN:DAYLIGHT
TZOFFSETFROM:-0500
TZOFFSETTO:-0400
TZNAME:EDT
DTSTART:20200308T070000
END:DAYLIGHT
BEGIN:STANDARD
TZOFFSETFROM:-0400
TZOFFSETTO:-0500
TZNAME:EST
DTSTART:20201101T060000
END:STANDARD
BEGIN:DAYLIGHT
TZOFFSETFROM:-0500
TZOFFSETTO:-0400
TZNAME:EDT
DTSTART:20210314T070000
END:DAYLIGHT
BEGIN:STANDARD
TZOFFSETFROM:-0400
TZOFFSETTO:-0500
TZNAME:EST
DTSTART:20211107T060000
END:STANDARD
BEGIN:DAYLIGHT
TZOFFSETFROM:-0500
TZOFFSETTO:-0400
TZNAME:EDT
DTSTART:20220313T070000
END:DAYLIGHT
BEGIN:STANDARD
TZOFFSETFROM:-0400
TZOFFSETTO:-0500
TZNAME:EST
DTSTART:20221106T060000
END:STANDARD
BEGIN:DAYLIGHT
TZOFFSETFROM:-0500
TZOFFSETTO:-0400
TZNAME:EDT
DTSTART:20230312T070000
END:DAYLIGHT
BEGIN:STANDARD
TZOFFSETFROM:-0400
TZOFFSETTO:-0500
TZNAME:EST
DTSTART:20231105T060000
END:STANDARD
BEGIN:DAYLIGHT
TZOFFSETFROM:-0500
TZOFFSETTO:-0400
TZNAME:EDT
DTSTART:20240310T070000
END:DAYLIGHT
BEGIN:STANDARD
TZOFFSETFROM:-0400
TZOFFSETTO:-0500
TZNAME:EST
DTSTART:20241103T060000
END:STANDARD
BEGIN:DAYLIGHT
TZOFFSETFROM:-0500
TZOFFSETTO:-0400
TZNAME:EDT
DTSTART:20250309T070000
END:DAYLIGHT
BEGIN:STANDARD
TZOFFSETFROM:-0400
TZOFFSETTO:-0500
TZNAME:EST
DTSTART:20251102T060000
END:STANDARD
END:VTIMEZONE
BEGIN:VEVENT
DTSTART;TZID=America/New_York:20200427T110000
DTEND;TZID=America/New_York:20241118T120000
DTSTAMP:20260420T072204
CREATED:20241118T010128Z
LAST-MODIFIED:20241118T010128Z
UID:77968-1587985200-1731931200@www.njmep.org
SUMMARY:Preparing Your Food Company for a Post-COVID  ‘New Normal’
DESCRIPTION:Webinar – Provide food manufacturers with actionable measures to make their workplace COVID safe for employees\, position companies to navigate out of the COVID challenge focusing on business growth – “The New Normal”
URL:https://www.njmep.org/calendar-event/preparing-your-food-company-for-a-post-covid-new-normal-2/
LOCATION:NJ
END:VEVENT
BEGIN:VEVENT
DTSTART;TZID=America/New_York:20201101T000000
DTEND;TZID=America/New_York:20240506T000000
DTSTAMP:20260420T072204
CREATED:20240506T172513Z
LAST-MODIFIED:20240506T172513Z
UID:71046-1604188800-1714953600@www.njmep.org
SUMMARY:Food Recall & Withdrawals Online (November 2020)
DESCRIPTION:“A food recall is either a food manufacturer or suppliers’ voluntary response to a mislabeling\, or potential hazard by removing a product from the market place or it is mandated by the FDA in response to a food safety issue determined. The most common reasons for food recalls are allergen mislabeling and the presence of pathogens. Other reasons behind food recalls include incorrect packaging\, wrong food labels and physical contamination.\nThe importance of having a food recall plan is to ensure quick and efficient removal of affected products from the market plane and to allow the identification of key areas of needed improvement to prevent future hazards. Recall and withdrawal procedures are required for food manufacturers under the final FDA Food Safety Modernization Act (FSMA) rule for “Preventative Controls for Human Foods for hazards requiring control.”
URL:https://www.njmep.org/calendar-event/food-recall-withdrawals-online-november-2020/
LOCATION:NJ
END:VEVENT
BEGIN:VEVENT
DTSTART;TZID=America/New_York:20230801T123000
DTEND;TZID=America/New_York:20230801T163000
DTSTAMP:20260420T072204
CREATED:20230606T202741Z
LAST-MODIFIED:20240506T172912Z
UID:64243-1690893000-1690907400@www.njmep.org
SUMMARY:ISO 9001-2015 Internal Auditing Training
DESCRIPTION:ISO requires you to conduct internal audits of your own system. Your registrar expects that your internal auditors will become qualified to conduct internal audits. The facilitator will help the Internal Audit Process Leader schedule the audits according to the status and importance of your processes and confirm the independence of the auditors involved. The ISO 9001-2015 Internal Auditor Training Class is designed to train your personnel to become qualified and confident to conduct internal audits in a positive\, constructive approach consistent with the objectives of your management system and adds value to your business. This class teaches the fundamentals of conducting an end-to-end process audit and includes a number of workshops/case studies that facilitate the learning process.
URL:https://www.njmep.org/calendar-event/iso-9001-2015-internal-auditing-training-14/
LOCATION:Online
ATTACH;FMTTYPE=image/jpeg:https://www.njmep.org/wp-content/uploads/2022/11/ISO_9001_2015_Internal_Auditing_Training_022223a.jpg
END:VEVENT
BEGIN:VEVENT
DTSTART;TZID=America/New_York:20230802T083000
DTEND;TZID=America/New_York:20230802T170000
DTSTAMP:20260420T072204
CREATED:20230727T135906Z
LAST-MODIFIED:20230727T135906Z
UID:65214-1690965000-1690995600@www.njmep.org
SUMMARY:OSHA 10-Hour Card Training - North
DESCRIPTION:8/2/2023\, 8/3/2023\n8:30AM – 5:00PM + 8:30AM – 12:30PM \nOSHA is the Occupational Safety and Health Administration and is responsible for worker safety and health protection.\nSince its inception in 1970\, OSHA has cut the work-fatality rate by more than half\, reduced the overall injury and illness rates in industries where OSHA has concentrated its attention\, virtually eliminated brown lung disease in the textile industry and reduced trenching and excavation fatalities by 35 percent. \nOSHA is administered through the Department of Labor (DOL). The DOL regulates and enforces more than 180 federal laws. These mandates and the regulations that implement them cover many workplace activities for about 10 million employers and 125 million workers. \nOSHA 10-hour training is the primary method used to train workers on hazard recognition and OSHA safety standards. The OSHA 10-hour course for the general industry is for workers who have jobs related to health care\, electrical\, factory\, warehouse\, manufacturing\, storage and more. This OSHA course covers general industry hazards not specific to those working construction-only jobs. Our OSHA 10-Hour Training course is designed to teach workplace safety and reduce jobsite hazards. Workers will learn about hazard avoidance\, workers’ rights\, filing an OSHA Complaint and more. \nWith successful completion of the class\, participants receive an OSHA construction safety and health 10- hour course completion card.
URL:https://www.njmep.org/calendar-event/osha-10-hour-card-training-north-2/
LOCATION:NJMEP North 2 Ridgedale Ave\, Suite 305\, Cedar Knolls\, NJ 07927\, 2 Ridgedale Ave\, Cedar Knolls\, NJ\, 07927\, United States
ATTACH;FMTTYPE=image/jpeg:https://www.njmep.org/wp-content/uploads/2022/03/OSHA_10_HR_031623a.jpg
END:VEVENT
BEGIN:VEVENT
DTSTART;TZID=America/New_York:20230808T083000
DTEND;TZID=America/New_York:20230808T170000
DTSTAMP:20260420T072204
CREATED:20230606T203306Z
LAST-MODIFIED:20240506T172913Z
UID:64251-1691483400-1691514000@www.njmep.org
SUMMARY:Geometric Dimensioning and Tolerancing (GD&T) Training - North
DESCRIPTION:8/8 & 8/9/2023\nIntroduction; Dimensioning and Tolerancing Fundamentals; Symbols\, Terms\, and Rules; Datums; Form controls – Flatness\, Straightness\, Circularity\, Cylindricity\, Free state variation; Orientation – Parallelism\, Perpendicularity\, Angularity; Position\, General – Specifying the position tolerance\, Regardless of feature size\, Maximum material condition\, Shift tolerance\, Boundary conditions\, “0” Positional Tolerancing; Position\, Location – Fasteners\, Projected Tolerance Zones\, Multiple patterns of features\, Composite positional tolerancing\, Two single-segment feature control frames\, Nonparallel holes\, Counterbored holes\, Noncircular features\, Symmetrical features; Position\, Coaxiality; Concentricity and Symmetry; Runout; Profile.
URL:https://www.njmep.org/calendar-event/geometric-dimensioning-and-tolerancing-gdt-training-north/
LOCATION:NJMEP North 2 Ridgedale Ave\, Suite 305\, Cedar Knolls\, NJ 07927\, 2 Ridgedale Ave\, Cedar Knolls\, NJ\, 07927\, United States
ATTACH;FMTTYPE=image/jpeg:https://www.njmep.org/wp-content/uploads/2023/01/Geometric-Dimensioning-and-Tolerancing-GDT-.jpg
END:VEVENT
BEGIN:VEVENT
DTSTART;TZID=America/New_York:20230808T130000
DTEND;TZID=America/New_York:20230808T133000
DTSTAMP:20260420T072204
CREATED:20230627T164047Z
LAST-MODIFIED:20230724T161930Z
UID:64615-1691499600-1691501400@www.njmep.org
SUMMARY:Reduce Your Costs to Improve Your Bottomline
DESCRIPTION:Join NJMEP for a brief webinar to learn how you may reduce your costs to improve you bottomline. NJMEP’s Expert Resource\, Alliance Cost Containment will renegotiate with your incumbent suppliers in all areas of operating expense for lower pricing. They average over $200\,000 in annual savings\, with contingency fees and very little time commitment.
URL:https://www.njmep.org/calendar-event/reduce-your-costs-to-improve-your-bottomline-5/
LOCATION:Online
ATTACH;FMTTYPE=image/jpeg:https://www.njmep.org/wp-content/uploads/2022/11/Reduce-Costs_011723a.jpg
END:VEVENT
BEGIN:VEVENT
DTSTART;TZID=America/New_York:20230809T123000
DTEND;TZID=America/New_York:20230809T163000
DTSTAMP:20260420T072204
CREATED:20230607T193911Z
LAST-MODIFIED:20230724T162051Z
UID:64272-1691584200-1691598600@www.njmep.org
SUMMARY:Excel Introduction
DESCRIPTION:8/9 & 8/10/2023\nThis course is intended for those whose work requires them to work on spreadsheets and present documentation required by the company. It includes data entry\, formulas and dimensions of the worksheet\, formatting data\, creating charts\, using statistical functions\, and customization of presentations. \nParticipants will:\n• Be able to create consistent charts and spreadsheets throughout the company\,\n• Understand how to develop and use formulas and statistical data\,\n• Create work-specific documents for a clearer understanding of reports.
URL:https://www.njmep.org/calendar-event/excel-introduction-4/
LOCATION:Online
ATTACH;FMTTYPE=image/jpeg:https://www.njmep.org/wp-content/uploads/2023/01/EXCEL_INTRO_2023.jpg
END:VEVENT
BEGIN:VEVENT
DTSTART;TZID=America/New_York:20230809T140000
DTEND;TZID=America/New_York:20230809T150000
DTSTAMP:20260420T072204
CREATED:20230606T204522Z
LAST-MODIFIED:20230724T162210Z
UID:64256-1691589600-1691593200@www.njmep.org
SUMMARY:How To Secure Tax Credits & Incentives; R&D
DESCRIPTION:Webinar for NJMEP clients to learn about How to Secure Tax Credits and Incentives such as R&D Tax credits\, EPAct 179D and Cost Segregation. There are countless challenges\, and one big issue is having a lack of cash on hand. We will be discussing strategies to help New Jersey manufacturers secure more capital in a time where nearly everyone is struggling to keep their doors open and see R&D Tax Credits as a valuable option. Manufacturers are surprised to find out how many of their day-to-day activities can be considered R&D. We will discuss the EPAct 179D Tax Deductions for energy efficiency projects. Also covered during this webinar will be Cost Segregation for new construction and renovations. \nSign up for our webinar and find out what kind of capital you might expect to secure or learn how simple securing your Tax Credits can be with the right team behind you.
URL:https://www.njmep.org/calendar-event/how-to-secure-tax-credits-rd/
LOCATION:Online
ATTACH;FMTTYPE=image/jpeg:https://www.njmep.org/wp-content/uploads/2023/03/TAX_CREDITS_2023_022223a.jpg
END:VEVENT
BEGIN:VEVENT
DTSTART;TZID=America/New_York:20230810T130000
DTEND;TZID=America/New_York:20230810T140000
DTSTAMP:20260420T072204
CREATED:20230602T155618Z
LAST-MODIFIED:20240506T172910Z
UID:64111-1691672400-1691676000@www.njmep.org
SUMMARY:Cyber 2.0: Navigating Cyber Risk Management In A New Age
DESCRIPTION:The cyber risk management ecosystem has evolved significantly over the past few years. The exponential rise in cyber attacks of all kinds has impacted\norganizations across industry sectors and given rise to massive operational and financial losses to business enterprises and public entities. \nIn addition\, the cyber insurance market has seen an unprecedented rise in the frequency\, breadth and depth of cyber claims. The resulting\nimpact has been categorized by a general hardening of the market where underwriters are applying a higher order of scrutiny on potential insureds\, with a\nheavy emphasis on the cybersecurity controls that matter most in the prevention\, detection\, response and recovery from cyber attacks. \nAlliant Cyber believes that aligning the identification\, analysis and management of critical cyber threats\, risk\, security and controls will be critical for organizations seeking to navigate the broader\ncyber insurance market and will require integration of cyber risk quantification\, business impact analysis and thorough consideration of cyber risk management options. \nWe call this step forward Cyber Insurability 2.0. \nPlease join us for an informative webinar hosted by NJMEP which will dive into these issues and provide insightful advice for navigating the specific threats facing the manufacturing sector. \nAbout Alliant Cyber:\nAlliant Cyber\, a division of Alliant Insurance Services\, Inc. brings the best in cyber insurance brokerage services with industry leading consultative cyber risk and advisory services\, risk quantification and third-party cybersecurity solutions. This holistic approach enables enhanced cyber risk management and insurability outcomes for our clients.
URL:https://www.njmep.org/calendar-event/cyber-2-0-navigating-cyber-risk-management-in-a-new-age/
LOCATION:Online
ATTACH;FMTTYPE=image/jpeg:https://www.njmep.org/wp-content/uploads/2023/06/CYBER_2_2023.jpg
END:VEVENT
BEGIN:VEVENT
DTSTART;TZID=America/New_York:20230815T130000
DTEND;TZID=America/New_York:20230815T140000
DTSTAMP:20260420T072204
CREATED:20230713T164740Z
LAST-MODIFIED:20230801T190712Z
UID:64941-1692104400-1692108000@www.njmep.org
SUMMARY:ASCM Supply Chain Education: What’s in it for WE\, the Employer and Employee?
DESCRIPTION:ASCM is the Association for Supply Chain Management\, the world’s largest non-profit supply chain organization and the recognized global leader in supply chain certifications. ASCM\, formerly known as APICS\, has been delivering supply chain education and training services for over a half century. The facilitator will present the following topics:\n• An overview of ASCM and the certification programs\n• Certification benefits to employers and employees\n• Additional deliverables provided by ASCM GNJ
URL:https://www.njmep.org/calendar-event/ascm-supply-chain-education-whats-in-it-for-we-the-employer-and-employee/
LOCATION:Online
ATTACH;FMTTYPE=image/jpeg:https://www.njmep.org/wp-content/uploads/2023/07/Depositphotos_532113148_DS-scaled.jpg
END:VEVENT
BEGIN:VEVENT
DTSTART;TZID=America/New_York:20230823T080000
DTEND;TZID=America/New_York:20230823T170000
DTSTAMP:20260420T072204
CREATED:20230602T160432Z
LAST-MODIFIED:20240506T172911Z
UID:64123-1692777600-1692810000@www.njmep.org
SUMMARY:CNC (Computerized Numerical Control) Training - South
DESCRIPTION:8/23\, 8/24\, 8/25/2023\nUpon completion of this three-day course\, students will have a deep understanding on CNC milling setup and programming. This course will cover the following modules. \n1. Milling Tools\, Material.\no Tool geometry\, endmill types\, and uses\no Material consideration in milling. Introduction to feeds and speeds\n2. Mill Work Holding\no Introduction to different types of work holding (vises\, clamps\, and magnetic plates) and their uses in CNC milling\n3. CNC Mill setup\no Familiarize the students with CNC Mill setup which includes reading and understanding the setup sheet\, machine Power Up\, jogging the machine\, loading cutting tools in the tool changer\, setting the work offsets\, setting the tool length offset\, loading\, checking\, and running the program\n4. CNC Programming\no Understanding absolute and incremental positioning\no Introduction to CNC G codes (G00\, G01) linear interpolation and circular interpolation\no Preparatory G codes\n Inch / Metric Selection (G20\, G21)\n Work Coordinate Selection (G54-59)\n Tool Length Compensation (G43)\n Reference point and return (G28)\n Another way to return to machine zero (G53)\n Circular Plane Selection (G17\, G18\, G19)\no Miscellaneous M codes\no Program format\n5. Canned cycles\no Drilling canned cycles\no Circular pocket Milling\n6. Cutter compensation (G40\, G41\, G42)
URL:https://www.njmep.org/calendar-event/cnc-computerized-numerical-control-training-south-2/
LOCATION:NJMEP South\, 211 Benigno Blvd\, Bellmawr\, NJ\, 08031\, United States
ATTACH;FMTTYPE=image/jpeg:https://www.njmep.org/wp-content/uploads/2023/01/CNC_TRAINING_011322a.jpg
END:VEVENT
BEGIN:VEVENT
DTSTART;TZID=America/New_York:20230823T090000
DTEND;TZID=America/New_York:20230823T123000
DTSTAMP:20260420T072204
CREATED:20230804T141850Z
LAST-MODIFIED:20250213T161853Z
UID:65425-1692781200-1692793800@www.njmep.org
SUMMARY:SOUTH JERSEY MANUFACTURING REVITALIZATION SUMMIT
DESCRIPTION:South Jersey Manufacturing Revitalization: In an effort to revitalize disconnected areas of manufacturing\nin Southern NJ\, NJMEP will partner with Rowan College of South Jersey to create an Advanced Manufacturing Center. This center will serve as a hub for training and operational improvement needs\, which will focus on the areas of supply chain\, technology and workforce development and look to connect South Jersey manufacturers to beneficial industry partnerships and governmental connections. \nAdditionally\, the South Jersey Manufacturing Revitalization will assist the more than 2\,000 companies in South Jersey to strengthen their competitiveness by enhancing productivity\, performance and profitability and to assist in identifying area of improvement and streamlining processes \n\nA presentation from NJMEP on how to thrive in today’s business market and how to overcome challenges in manufacturing.\nThe Vision of the Institute of Advanced Manufacturing program at the Rowan College South Jersey\nConversations on labor\, skilled staff\, and logistic challenges in South Jersey.\nQ & A panels with experienced business leaders\, educational figures\, and government officials.\nNetworking opportunities with individuals from across various organizations.
URL:https://www.njmep.org/calendar-event/south-jersey-manufacturing-revitalization-summit/
LOCATION:Rowan College of South Jersey – Cumberland\, 3322 College Drive\, Vineland\, NJ\, 08360\, United States
ATTACH;FMTTYPE=image/jpeg:https://www.njmep.org/wp-content/uploads/2023/08/SNJ-Revitalization-Summit-Invite-1.jpg
END:VEVENT
BEGIN:VEVENT
DTSTART;TZID=America/New_York:20230828T083000
DTEND;TZID=America/New_York:20230828T170000
DTSTAMP:20260420T072204
CREATED:20230602T161140Z
LAST-MODIFIED:20230815T172106Z
UID:64129-1693211400-1693242000@www.njmep.org
SUMMARY:Lean Manufacturing - Introduction to Value Stream Mapping - North
DESCRIPTION:
URL:https://www.njmep.org/calendar-event/lean-manufacturing-introduction-to-value-stream-mapping-north-2/
LOCATION:NJMEP North 2 Ridgedale Ave\, Suite 305\, Cedar Knolls\, NJ 07927\, 2 Ridgedale Ave\, Cedar Knolls\, NJ\, 07927\, United States
ATTACH;FMTTYPE=image/jpeg:https://www.njmep.org/wp-content/uploads/2023/01/LEAN_Value_Stream_Mapping_020923a.jpg
END:VEVENT
END:VCALENDAR