BEGIN:VCALENDAR
VERSION:2.0
PRODID:-//NJMEP - ECPv6.15.20//NONSGML v1.0//EN
CALSCALE:GREGORIAN
METHOD:PUBLISH
X-ORIGINAL-URL:https://www.njmep.org
X-WR-CALDESC:Events for NJMEP
REFRESH-INTERVAL;VALUE=DURATION:PT1H
X-Robots-Tag:noindex
X-PUBLISHED-TTL:PT1H
BEGIN:VTIMEZONE
TZID:America/New_York
BEGIN:DAYLIGHT
TZOFFSETFROM:-0500
TZOFFSETTO:-0400
TZNAME:EDT
DTSTART:20190310T070000
END:DAYLIGHT
BEGIN:STANDARD
TZOFFSETFROM:-0400
TZOFFSETTO:-0500
TZNAME:EST
DTSTART:20191103T060000
END:STANDARD
BEGIN:DAYLIGHT
TZOFFSETFROM:-0500
TZOFFSETTO:-0400
TZNAME:EDT
DTSTART:20200308T070000
END:DAYLIGHT
BEGIN:STANDARD
TZOFFSETFROM:-0400
TZOFFSETTO:-0500
TZNAME:EST
DTSTART:20201101T060000
END:STANDARD
BEGIN:DAYLIGHT
TZOFFSETFROM:-0500
TZOFFSETTO:-0400
TZNAME:EDT
DTSTART:20210314T070000
END:DAYLIGHT
BEGIN:STANDARD
TZOFFSETFROM:-0400
TZOFFSETTO:-0500
TZNAME:EST
DTSTART:20211107T060000
END:STANDARD
BEGIN:DAYLIGHT
TZOFFSETFROM:-0500
TZOFFSETTO:-0400
TZNAME:EDT
DTSTART:20220313T070000
END:DAYLIGHT
BEGIN:STANDARD
TZOFFSETFROM:-0400
TZOFFSETTO:-0500
TZNAME:EST
DTSTART:20221106T060000
END:STANDARD
BEGIN:DAYLIGHT
TZOFFSETFROM:-0500
TZOFFSETTO:-0400
TZNAME:EDT
DTSTART:20230312T070000
END:DAYLIGHT
BEGIN:STANDARD
TZOFFSETFROM:-0400
TZOFFSETTO:-0500
TZNAME:EST
DTSTART:20231105T060000
END:STANDARD
BEGIN:DAYLIGHT
TZOFFSETFROM:-0500
TZOFFSETTO:-0400
TZNAME:EDT
DTSTART:20240310T070000
END:DAYLIGHT
BEGIN:STANDARD
TZOFFSETFROM:-0400
TZOFFSETTO:-0500
TZNAME:EST
DTSTART:20241103T060000
END:STANDARD
BEGIN:DAYLIGHT
TZOFFSETFROM:-0500
TZOFFSETTO:-0400
TZNAME:EDT
DTSTART:20250309T070000
END:DAYLIGHT
BEGIN:STANDARD
TZOFFSETFROM:-0400
TZOFFSETTO:-0500
TZNAME:EST
DTSTART:20251102T060000
END:STANDARD
END:VTIMEZONE
BEGIN:VEVENT
DTSTART;TZID=America/New_York:20200427T110000
DTEND;TZID=America/New_York:20241118T120000
DTSTAMP:20260420T012707
CREATED:20241118T010128Z
LAST-MODIFIED:20241118T010128Z
UID:77968-1587985200-1731931200@www.njmep.org
SUMMARY:Preparing Your Food Company for a Post-COVID  ‘New Normal’
DESCRIPTION:Webinar – Provide food manufacturers with actionable measures to make their workplace COVID safe for employees\, position companies to navigate out of the COVID challenge focusing on business growth – “The New Normal”
URL:https://www.njmep.org/calendar-event/preparing-your-food-company-for-a-post-covid-new-normal-2/
LOCATION:NJ
END:VEVENT
BEGIN:VEVENT
DTSTART;TZID=America/New_York:20201101T000000
DTEND;TZID=America/New_York:20240506T000000
DTSTAMP:20260420T012707
CREATED:20240506T172513Z
LAST-MODIFIED:20240506T172513Z
UID:71046-1604188800-1714953600@www.njmep.org
SUMMARY:Food Recall & Withdrawals Online (November 2020)
DESCRIPTION:“A food recall is either a food manufacturer or suppliers’ voluntary response to a mislabeling\, or potential hazard by removing a product from the market place or it is mandated by the FDA in response to a food safety issue determined. The most common reasons for food recalls are allergen mislabeling and the presence of pathogens. Other reasons behind food recalls include incorrect packaging\, wrong food labels and physical contamination.\nThe importance of having a food recall plan is to ensure quick and efficient removal of affected products from the market plane and to allow the identification of key areas of needed improvement to prevent future hazards. Recall and withdrawal procedures are required for food manufacturers under the final FDA Food Safety Modernization Act (FSMA) rule for “Preventative Controls for Human Foods for hazards requiring control.”
URL:https://www.njmep.org/calendar-event/food-recall-withdrawals-online-november-2020/
LOCATION:NJ
END:VEVENT
BEGIN:VEVENT
DTSTART;TZID=America/New_York:20231101T083000
DTEND;TZID=America/New_York:20231101T123000
DTSTAMP:20260420T012707
CREATED:20230706T184943Z
LAST-MODIFIED:20230808T183111Z
UID:64793-1698827400-1698841800@www.njmep.org
SUMMARY:Conflict Resolution : Dealing With Conflict Overview  -  English
DESCRIPTION:This conflict management workshop will help you identify some of the ways you may be contributing to these problems and give you some strategies you can adopt at work and in your personal life as well. \nParticipants will be expected to: \n• Recognize how their own attitudes and actions impact on others\n• Find new and effective techniques for managing negative emotions\n• Develop coping strategies for dealing with difficult people and difficult situations\n• Identify those times when they have the right to walk away from a difficult situation
URL:https://www.njmep.org/calendar-event/conflict-resolution-dealing-with-conflict-overview-english-3/
LOCATION:Online
ATTACH;FMTTYPE=image/jpeg:https://www.njmep.org/wp-content/uploads/2023/04/Conflict_Resolution_040523a.jpg
END:VEVENT
BEGIN:VEVENT
DTSTART;TZID=America/New_York:20231108T123000
DTEND;TZID=America/New_York:20231108T163000
DTSTAMP:20260420T012707
CREATED:20231012T173446Z
LAST-MODIFIED:20231023T203057Z
UID:66680-1699446600-1699461000@www.njmep.org
SUMMARY:Supervisory Skills - English
DESCRIPTION:11/8\, 11/9\, 11/15\, 11/16/2023\nMoving into a position of authority means meeting new challenges\, taking on new responsibilities\, and mastering new skills. It may also mean learning to manage across cultural and language differences. New Managers can often be overwhelmed by new responsibilities and anxious about the transition from “coworker” to “boss.”\nWorkers who have recently become supervisors often worry about the way others will react to their new supervisor status … have concerns about keeping up with a tougher workload … and wonder how to handle the new tasks they will be faced with: hiring\, disciplinary action\, managing change\, even firing.\nA program to ease the transition …\nThis supervisory training course was specifically designed to address the needs of anyone who is new to managing others\, with a special focus on those managing in a multicultural workplace. The content of this course will provide a powerful new set of skills\, strategies\, and techniques for dealing with the issues you will encounter as you take on your new position and move forward in your career.\nYou will find out how to relate well to former peers who are now your subordinates\, and you’ll learn the communication skills that will help you handle these changing relationships in a way that’s comfortable for everyone. You’ll discover secrets for motivating and encouraging people to do their “personal best” for you\, and find out how to discipline firmly and fairly\, without creating resentment. This supervisory training will show you how to positively influence the behavior of your workers.\nIn this workshop you’ll learn:\nHow to communicate more effectively as a new supervisor\nWhen to be flexible\, and when to stand firm\nHow to build trust and gain respect\nStrategies for motivating others to achieve results\nThe truth about discipline — how to handle uncomfortable situations\nWhat every new supervisor and manager should know about hiring and firing\nTime management skills that really work\nAnd much\, much more!
URL:https://www.njmep.org/calendar-event/supervisory-skills-english-3/
LOCATION:Online
ATTACH;FMTTYPE=image/jpeg:https://www.njmep.org/wp-content/uploads/2023/01/Supervisor_Skills_English_021523a.jpg
END:VEVENT
BEGIN:VEVENT
DTSTART;TZID=America/New_York:20231108T140000
DTEND;TZID=America/New_York:20231108T150000
DTSTAMP:20260420T012707
CREATED:20230727T185532Z
LAST-MODIFIED:20230808T183841Z
UID:65227-1699452000-1699455600@www.njmep.org
SUMMARY:Virtual - How to Secure Tax Credits & Incentives
DESCRIPTION:Webinar for NJMEP clients to learn about How to Secure Tax Credits and Incentives such as R&D Tax credits\, EPAct 179D and Cost Segregation. There are countless challenges\, and one big issue is having a lack of cash on hand. We will be discussing strategies to help New Jersey manufacturers secure more capital in a time where nearly everyone is struggling to keep their doors open and see R&D Tax Credits as a valuable option. Manufacturers are surprised to find out how many of their day-to-day activities can be considered R&D. We will discuss the EPAct 179D Tax Deductions for energy efficiency projects. Also covered during this webinar will be Cost Segregation for new construction and renovations. \nSign up for our webinar and find out what kind of capital you might expect to secure or learn how simple securing your Tax Credits can be with the right team behind you.
URL:https://www.njmep.org/calendar-event/virtual-how-to-secure-tax-credits-incentives/
LOCATION:Online
ATTACH;FMTTYPE=image/jpeg:https://www.njmep.org/wp-content/uploads/2023/03/TAX_CREDITS_2023_022223a.jpg
END:VEVENT
BEGIN:VEVENT
DTSTART;TZID=America/New_York:20231110T083000
DTEND;TZID=America/New_York:20231110T170000
DTSTAMP:20260420T012707
CREATED:20230727T192743Z
LAST-MODIFIED:20230808T183950Z
UID:65232-1699605000-1699635600@www.njmep.org
SUMMARY:Augmented Arc Welding Training - North
DESCRIPTION:11/10/2023 & 11/17/2023\nUpon completion of this two-day live training program\, participants will be proficient in performing virtual welds on various welded joints in different positions\, using the following welding processes: GMAW\, GTAW and SMAW. Students will also have an understanding of the fundamentals of welding theory and will be able to interpret welding symbols found on a technical drawing. Participants will perform “Hands On” virtual welds using the Miller Augmented Arc Simulator\, as instructed. These welds will be applied on different types of joints using the following processes: MIG\, TIG and Stick.
URL:https://www.njmep.org/calendar-event/augmented-arc-welding-training-north-5/
LOCATION:NJMEP North 2 Ridgedale Ave\, Suite 305\, Cedar Knolls\, NJ 07927\, 2 Ridgedale Ave\, Cedar Knolls\, NJ\, 07927\, United States
ATTACH;FMTTYPE=image/jpeg:https://www.njmep.org/wp-content/uploads/2023/03/Augmented_Arc_Welding_Training_011923a.jpg
END:VEVENT
BEGIN:VEVENT
DTSTART;TZID=America/New_York:20231114T083000
DTEND;TZID=America/New_York:20231114T123000
DTSTAMP:20260420T012707
CREATED:20231026T152021Z
LAST-MODIFIED:20231107T210256Z
UID:66896-1699950600-1699965000@www.njmep.org
SUMMARY:Forklift Operator Training
DESCRIPTION:Content is protected.
URL:https://www.njmep.org/calendar-event/forklift-operator-training-2/
LOCATION:Auto Drill\, 8 Bartles Corner Road\, Unit 107\, Flemington\, NJ\, 08822\, United States
END:VEVENT
BEGIN:VEVENT
DTSTART;TZID=America/New_York:20231114T140000
DTEND;TZID=America/New_York:20231114T150000
DTSTAMP:20260420T012707
CREATED:20231012T173717Z
LAST-MODIFIED:20231113T191113Z
UID:66684-1699970400-1699974000@www.njmep.org
SUMMARY:Building High Performance Teams or Sales for the nonsales CEO
DESCRIPTION:This complimentary webinar will start with a CEO Sales Executive Briefing – This executive briefing will provide the CEO with a firm understanding of sales\, sales management\, sales performance\, pipeline development\, forecasting\, customer support\, marketing\, go-to-market strategy\, managing conflict\, etc. By the end of this executive briefing\, the CEO will have a foundation of knowledge around sales\, sales management\, forecasting\, sales process\, and methodology. \nThe webinar will then provide an introduction to Building a High-Performing Team with the objective: Building your business from the ground up requires having the right product\, service\, business processes\, etc.\, and having the right team. This seminar will give the participants an overview of the critical elements of building a high-performing team. Attendees will engage in lecture exercises. \nSeminar outline:\n1. What is a high-performing team?\n2. What are the critical components of an excellent foundation to build a high-performing team?\n3. The SWOT and GAP analysis of your business and team.\n4. Practical next steps to get started. \nKey takeaways from class:\n1. Understanding the critical components of a high-performing team\n2. Conducting a GAP analysis and plan of action for your business\n3. Implementing the plan of action for your business\n4. Establishing a performance dashboard to monitor the performance of your team and business
URL:https://www.njmep.org/calendar-event/building-high-performance-teams-or-sales-for-the-nonsales-ceo/
LOCATION:Online
ATTACH;FMTTYPE=image/jpeg:https://www.njmep.org/wp-content/uploads/2023/10/Depositphotos_11242480_l-2015.jpg
END:VEVENT
BEGIN:VEVENT
DTSTART;TZID=America/New_York:20231114T140000
DTEND;TZID=America/New_York:20231114T150000
DTSTAMP:20260420T012707
CREATED:20231027T180007Z
LAST-MODIFIED:20231106T170313Z
UID:66915-1699970400-1699974000@www.njmep.org
SUMMARY:Can I Sell My Business and How Much is it Worth?
DESCRIPTION:Absent a plan to create a sellable business\, most owners end up shutting down their businesses without selling or transitioning them to the next generation. Also\, most business owners fortunate enough to sell their businesses end up getting far less money than they expected. \nIt is important for you to understand whether your business is sellable and have an idea what it may be worth. We will share factors that will increase the likelihood of your business being attractive to a 3rd party and outline strategies for increasing the price they will pay. Topics covered include business sale statistics\, business buyer considerations\, valuation methodologies\, and value-building strategies.
URL:https://www.njmep.org/calendar-event/can-i-sell-my-business-and-how-much-is-it-worth-3/
LOCATION:Online
ATTACH;FMTTYPE=image/jpeg:https://www.njmep.org/wp-content/uploads/2023/08/Can_I_Sell_My_Business_2023.jpg
END:VEVENT
BEGIN:VEVENT
DTSTART;TZID=America/New_York:20231115T100000
DTEND;TZID=America/New_York:20231115T120000
DTSTAMP:20260420T012707
CREATED:20230727T202914Z
LAST-MODIFIED:20230808T184130Z
UID:65242-1700042400-1700049600@www.njmep.org
SUMMARY:Compressed Air - Learn About Safety\, Technology and Methodology of Compressed Air
DESCRIPTION:Compressed air is a common power source in Food\, Pharma\, Plastics\, and Machining.\nAttendees will learn: \nThe importance of Compressed Air Quality\nTips on how to reduce Compressed Air Leaks\nInformation on Compressed Air System Operation Baseloading\nLearn about the Technology and Methodology of Compressed Air\nThe average blended energy cost is averaging $0.14/kW-hr in New Jersey. When you figure the cost per horsepower\, per shift is $305 annually…opportunity costs can add up.
URL:https://www.njmep.org/calendar-event/compressed-air-learn-about-safety-technology-and-methodology-of-compressed-air-5/
LOCATION:Online
ATTACH;FMTTYPE=image/jpeg:https://www.njmep.org/wp-content/uploads/2023/03/COMPRESSED-AIR_022423a.jpg
END:VEVENT
BEGIN:VEVENT
DTSTART;TZID=America/New_York:20231130T123000
DTEND;TZID=America/New_York:20231130T163000
DTSTAMP:20260420T012707
CREATED:20230620T204730Z
LAST-MODIFIED:20230809T161642Z
UID:64529-1701347400-1701361800@www.njmep.org
SUMMARY:Food Safety - Manager HACCP (Hazard Analysis and Critical Control Point)
DESCRIPTION:11/30\, 12/1\, 12/7\, 12/8/23\nParticipants will learn how to identify critical control points and define critical limits. In addition\, the HACCP training teaches participants how to identify hazards associated with raw materials\, develop process steps\, and assign controls. These skills will allow participants to prevent and reduce the occurrences of food safety hazards within their manufacturing facilities. This training is delivered on-site or at NJMEP’s training facility and is intended for all employees\, including HACCP team members\, management teams\, corporate executives\, or anyone whose job function will impact the facility HACCP Plan. \n  \nThis training is intended for ensuring the safe preparation of food\, packing\, and holding of food products for human consumption in the United States. HACCP is a system comprised of food safety\, food defense\, prerequisite programs\, and the seven principles of HACCP that are applied to a written food safety program. This course provides participants with the knowledge to develop and write a food service or retail HACCP plan.
URL:https://www.njmep.org/calendar-event/food-safety-manager-haccp-hazard-analysis-and-critical-control-point-4/
LOCATION:Online
ATTACH;FMTTYPE=image/jpeg:https://www.njmep.org/wp-content/uploads/2023/02/Food_Safety_Manager_HACCP_2023.jpg
END:VEVENT
END:VCALENDAR