BEGIN:VCALENDAR
VERSION:2.0
PRODID:-//NJMEP - ECPv6.15.20//NONSGML v1.0//EN
CALSCALE:GREGORIAN
METHOD:PUBLISH
X-ORIGINAL-URL:https://www.njmep.org
X-WR-CALDESC:Events for NJMEP
REFRESH-INTERVAL;VALUE=DURATION:PT1H
X-Robots-Tag:noindex
X-PUBLISHED-TTL:PT1H
BEGIN:VTIMEZONE
TZID:America/New_York
BEGIN:DAYLIGHT
TZOFFSETFROM:-0500
TZOFFSETTO:-0400
TZNAME:EDT
DTSTART:20240310T070000
END:DAYLIGHT
BEGIN:STANDARD
TZOFFSETFROM:-0400
TZOFFSETTO:-0500
TZNAME:EST
DTSTART:20241103T060000
END:STANDARD
BEGIN:DAYLIGHT
TZOFFSETFROM:-0500
TZOFFSETTO:-0400
TZNAME:EDT
DTSTART:20250309T070000
END:DAYLIGHT
BEGIN:STANDARD
TZOFFSETFROM:-0400
TZOFFSETTO:-0500
TZNAME:EST
DTSTART:20251102T060000
END:STANDARD
BEGIN:DAYLIGHT
TZOFFSETFROM:-0500
TZOFFSETTO:-0400
TZNAME:EDT
DTSTART:20260308T070000
END:DAYLIGHT
BEGIN:STANDARD
TZOFFSETFROM:-0400
TZOFFSETTO:-0500
TZNAME:EST
DTSTART:20261101T060000
END:STANDARD
END:VTIMEZONE
BEGIN:VEVENT
DTSTART;TZID=America/New_York:20250115T083000
DTEND;TZID=America/New_York:20250115T170000
DTSTAMP:20260419T092402
CREATED:20241016T165039Z
LAST-MODIFIED:20250129T210103Z
UID:76623-1736929800-1736960400@www.njmep.org
SUMMARY:Food Safety - SQF Practitioner Training - North
DESCRIPTION:1/15 & 1/16
URL:https://www.njmep.org/calendar-event/food-safety-sqf-practitioner-training-north-2/
LOCATION:NJMEP North 2 Ridgedale Ave\, Suite 305\, Cedar Knolls\, NJ 07927\, 2 Ridgedale Ave\, Cedar Knolls\, NJ\, 07927\, United States
ATTACH;FMTTYPE=image/jpeg:https://www.njmep.org/wp-content/uploads/2023/01/Food_Safety_SQF_2023.jpg
END:VEVENT
BEGIN:VEVENT
DTSTART;TZID=America/New_York:20250117T083000
DTEND;TZID=America/New_York:20250117T170000
DTSTAMP:20260419T092402
CREATED:20240814T202501Z
LAST-MODIFIED:20250113T145604Z
UID:75419-1737102600-1737133200@www.njmep.org
SUMMARY:Six Sigma Green Belt Certification Training
DESCRIPTION:Content is protected.
URL:https://www.njmep.org/calendar-event/six-sigma-green-belt-certification-training-24/
LOCATION:Genewiz\, 115 CORPORATE BLVD\, SOUTH PLAINFIELD\, NJ\, 07080\, United States
END:VEVENT
BEGIN:VEVENT
DTSTART;TZID=America/New_York:20250123T173000
DTEND;TZID=America/New_York:20250123T203000
DTSTAMP:20260419T092402
CREATED:20241219T154928Z
LAST-MODIFIED:20250129T210104Z
UID:78943-1737653400-1737664200@www.njmep.org
SUMMARY:2025 Resource Holiday Dinner
DESCRIPTION:Content is protected.
URL:https://www.njmep.org/calendar-event/2025-resource-holiday-dinner/
LOCATION:Park Avenue Club\, 184 Park Avenue\, Florham Park\, NJ\, 07932\, United States
END:VEVENT
BEGIN:VEVENT
DTSTART;TZID=America/New_York:20250130T083000
DTEND;TZID=America/New_York:20250130T123000
DTSTAMP:20260419T092402
CREATED:20240930T203255Z
LAST-MODIFIED:20250425T224009Z
UID:76343-1738225800-1738240200@www.njmep.org
SUMMARY:Six Sigma Green Belt Certification Training - Virtual
DESCRIPTION:Six Sigma is a universally-recognized standard of excellence for continuous process improvement. This course will prepare you for Green Belt certification – an accomplishment that will add value to your company and your career.
URL:https://www.njmep.org/calendar-event/six-sigma-green-belt-certification-training-virtual-2/
LOCATION:Online
ATTACH;FMTTYPE=image/jpeg:https://www.njmep.org/wp-content/uploads/2023/03/Six_Sigma_Green_Belt_011923a.jpg
END:VEVENT
BEGIN:VEVENT
DTSTART;TZID=America/New_York:20250130T110000
DTEND;TZID=America/New_York:20250130T120000
DTSTAMP:20260419T092402
CREATED:20241217T205719Z
LAST-MODIFIED:20250415T172207Z
UID:78892-1738234800-1738238400@www.njmep.org
SUMMARY:Unlock Your Potential: Earn the Cyber4RAM Badge and Boost Your Cybersecurity Ski
DESCRIPTION:
URL:https://www.njmep.org/calendar-event/unlock-your-potential-earn-the-cyber4ram-badge-and-boost-your-cybersecurity-skills-2/
LOCATION:NJ
ATTACH;FMTTYPE=image/jpeg:https://www.njmep.org/wp-content/uploads/2024/12/unlock-your-potential-earn-the-cyber4ram-badge-and-boost-your-cybersecurity-skills_2025.jpg
END:VEVENT
BEGIN:VEVENT
DTSTART;TZID=America/New_York:20250131T073000
DTEND;TZID=America/New_York:20250131T160000
DTSTAMP:20260419T092402
CREATED:20250114T160129Z
LAST-MODIFIED:20250121T214504Z
UID:79417-1738308600-1738339200@www.njmep.org
SUMMARY:Lean Manufacturing - 5S Workplace Organization Overview - PRIVATE
DESCRIPTION:Content is protected.
URL:https://www.njmep.org/calendar-event/lean-manufacturing-5s-workplace-organization-overview/
LOCATION:Ventos USA Inc\, 20 Boright Ave\, Kenilworth\, NJ\, 07033\, United States
END:VEVENT
BEGIN:VEVENT
DTSTART;TZID=America/New_York:20250131T083000
DTEND;TZID=America/New_York:20250131T170000
DTSTAMP:20260419T092402
CREATED:20241009T202305Z
LAST-MODIFIED:20250425T224009Z
UID:76494-1738312200-1738342800@www.njmep.org
SUMMARY:NFPA 70E (2024): Standard for Electrical Safety In The Workplace Training- North
DESCRIPTION:National Fire Protection Association – NFPA 70E covers standards for electrical safety in the workplace. In this training you will review the relationship between the Occupational Safety and Health Administration (OSHA) and NFPA 70E. You will also review general NFPA 70E standards and the importance of these standards in maintaining your safety and the safety of others in the workplace.
URL:https://www.njmep.org/calendar-event/nfpa-70e-2024-standard-for-electrical-safety-in-the-workplace-training-north-6/
LOCATION:NJMEP North 2 Ridgedale Ave\, Suite 305\, Cedar Knolls\, NJ 07927\, 2 Ridgedale Ave\, Cedar Knolls\, NJ\, 07927\, United States
ATTACH;FMTTYPE=image/jpeg:https://www.njmep.org/wp-content/uploads/2024/01/NFPA2030524a_.jpg
END:VEVENT
END:VCALENDAR