BEGIN:VCALENDAR
VERSION:2.0
PRODID:-//NJMEP - ECPv6.15.20//NONSGML v1.0//EN
CALSCALE:GREGORIAN
METHOD:PUBLISH
X-ORIGINAL-URL:https://www.njmep.org
X-WR-CALDESC:Events for NJMEP
REFRESH-INTERVAL;VALUE=DURATION:PT1H
X-Robots-Tag:noindex
X-PUBLISHED-TTL:PT1H
BEGIN:VTIMEZONE
TZID:America/New_York
BEGIN:DAYLIGHT
TZOFFSETFROM:-0500
TZOFFSETTO:-0400
TZNAME:EDT
DTSTART:20240310T070000
END:DAYLIGHT
BEGIN:STANDARD
TZOFFSETFROM:-0400
TZOFFSETTO:-0500
TZNAME:EST
DTSTART:20241103T060000
END:STANDARD
BEGIN:DAYLIGHT
TZOFFSETFROM:-0500
TZOFFSETTO:-0400
TZNAME:EDT
DTSTART:20250309T070000
END:DAYLIGHT
BEGIN:STANDARD
TZOFFSETFROM:-0400
TZOFFSETTO:-0500
TZNAME:EST
DTSTART:20251102T060000
END:STANDARD
BEGIN:DAYLIGHT
TZOFFSETFROM:-0500
TZOFFSETTO:-0400
TZNAME:EDT
DTSTART:20260308T070000
END:DAYLIGHT
BEGIN:STANDARD
TZOFFSETFROM:-0400
TZOFFSETTO:-0500
TZNAME:EST
DTSTART:20261101T060000
END:STANDARD
END:VTIMEZONE
BEGIN:VEVENT
DTSTART;TZID=America/New_York:20250205T120000
DTEND;TZID=America/New_York:20250205T130000
DTSTAMP:20260421T061323
CREATED:20241223T161302Z
LAST-MODIFIED:20250415T172334Z
UID:78965-1738756800-1738760400@www.njmep.org
SUMMARY:Adapting to Thrive: Leveraging Change Management to Outrun Your Competition
DESCRIPTION:About Course: \nDescription \nIn today’s challenging and competitive manufacturing industry\, being able to change and adapt is no longer just for those looking to transform their company\, it is essential to every business’ survival. However\, those companies that have been able to embed “change” as a component of their culture have been able to stay one step ahead. This 30-minute webinar\, designed specifically for small and medium-sized manufacturing businesses\, will explore the keys to leading effective change management initiatives\, and ways to foster a culture that embraces innovation and growth. \nWho is this for? \nOwners\, Production Directors\, Managers and Leads\, HR personnel. \nWhat do attendees get? \n\nThe fundamentals of leading successful change management projects.\nStrategies for overcoming resistance to change.\nHow to build a resilient\, change-ready culture that drives long-term success.\n\nImpact \nLeverage the fundamentals of change management to effectively execute major change initiatives that will put your business on another level vs. your competitors.
URL:https://www.njmep.org/calendar-event/adapting-to-thrive-leveraging-change-management-to-outrun-your-competition/
LOCATION:Online
ATTACH;FMTTYPE=image/jpeg:https://www.njmep.org/wp-content/uploads/2025/01/GENERIC_a.jpg
END:VEVENT
BEGIN:VEVENT
DTSTART;TZID=America/New_York:20250206T083000
DTEND;TZID=America/New_York:20250206T170000
DTSTAMP:20260421T061323
CREATED:20241009T205120Z
LAST-MODIFIED:20250203T143103Z
UID:76499-1738830600-1738861200@www.njmep.org
SUMMARY:OSHA 10 Hour Card Training - North
DESCRIPTION:2/6 & 2/7/2025\n8:30AM-5:00PM + 8:30AM-12:30PM
URL:https://www.njmep.org/calendar-event/osha-10-hour-card-training-north-7/
LOCATION:NJMEP North 2 Ridgedale Ave\, Suite 305\, Cedar Knolls\, NJ 07927\, 2 Ridgedale Ave\, Cedar Knolls\, NJ\, 07927\, United States
ATTACH;FMTTYPE=image/jpeg:https://www.njmep.org/wp-content/uploads/2022/03/OSHA_10_HR_031623a.jpg
END:VEVENT
BEGIN:VEVENT
DTSTART;TZID=America/New_York:20250211T083000
DTEND;TZID=America/New_York:20250211T170000
DTSTAMP:20260421T061323
CREATED:20241009T211715Z
LAST-MODIFIED:20250425T224009Z
UID:76507-1739262600-1739293200@www.njmep.org
SUMMARY:Food Safety - Manager HACCP (Hazard Analysis and Critical Control Point) - North
DESCRIPTION:articipants will learn how to identify critical control points and define critical limits. In addition\, the HACCP training teaches participants how to identify hazards associated with raw materials\, develop process steps\, and assign controls.
URL:https://www.njmep.org/calendar-event/food-safety-manager-haccp-hazard-analysis-and-critical-control-point-north-4/
LOCATION:NJMEP North 2 Ridgedale Ave\, Suite 305\, Cedar Knolls\, NJ 07927\, 2 Ridgedale Ave\, Cedar Knolls\, NJ\, 07927\, United States
ATTACH;FMTTYPE=image/jpeg:https://www.njmep.org/wp-content/uploads/2024/10/Food_Safety_Manager_HACCP_2023.jpg
END:VEVENT
BEGIN:VEVENT
DTSTART;TZID=America/New_York:20250211T083000
DTEND;TZID=America/New_York:20250211T170000
DTSTAMP:20260421T061323
CREATED:20241030T201942Z
LAST-MODIFIED:20250425T224011Z
UID:77371-1739262600-1739293200@www.njmep.org
SUMMARY:Geometric Dimensioning and Tolerancing (GD&T) - North
DESCRIPTION:Providing uniformity in drawing specifications and interpretation\, and geometric tolerancing to reduce controversy\, guesswork\, and assumptions throughout the manufacturing and inspection process.
URL:https://www.njmep.org/calendar-event/geometric-dimensioning-and-tolerancing-gdt-north-9/
LOCATION:NJMEP North 2 Ridgedale Ave\, Suite 305\, Cedar Knolls\, NJ 07927\, 2 Ridgedale Ave\, Cedar Knolls\, NJ\, 07927\, United States
ATTACH;FMTTYPE=image/jpeg:https://www.njmep.org/wp-content/uploads/2023/01/Geometric-Dimensioning-and-Tolerancing-GDT-.jpg
END:VEVENT
BEGIN:VEVENT
DTSTART;TZID=America/New_York:20250211T083000
DTEND;TZID=America/New_York:20250211T170000
DTSTAMP:20260421T061323
CREATED:20241218T195832Z
LAST-MODIFIED:20250425T224012Z
UID:78913-1739262600-1739293200@www.njmep.org
SUMMARY:CNC (Computerized Numerical Control) Training
DESCRIPTION:Upon completion of this three day course students will have a deep understanding on CNC milling setup and programing. This course will cover the following modules;
URL:https://www.njmep.org/calendar-event/cnc-computerized-numerical-control-training-17/
LOCATION:NJMEP North 2 Ridgedale Ave\, Suite 305\, Cedar Knolls\, NJ 07927\, 2 Ridgedale Ave\, Cedar Knolls\, NJ\, 07927\, United States
ATTACH;FMTTYPE=image/jpeg:https://www.njmep.org/wp-content/uploads/2023/01/CNC_TRAINING_020722a.jpg
END:VEVENT
BEGIN:VEVENT
DTSTART;TZID=America/New_York:20250212T123000
DTEND;TZID=America/New_York:20250212T163000
DTSTAMP:20260421T061323
CREATED:20241009T213036Z
LAST-MODIFIED:20250207T180003Z
UID:76513-1739363400-1739377800@www.njmep.org
SUMMARY:Supervisory Skills Training in Spanish - Virtual
DESCRIPTION:2/12\, 2/13\, 2/19\, 2/20/2025
URL:https://www.njmep.org/calendar-event/supervisory-skills-training-in-spanish-virtual-2/
LOCATION:Online
ATTACH;FMTTYPE=image/jpeg:https://www.njmep.org/wp-content/uploads/2023/01/Supervisor_Skills_Spanish_021523a.jpg
END:VEVENT
BEGIN:VEVENT
DTSTART;TZID=America/New_York:20250212T123000
DTEND;TZID=America/New_York:20250212T163000
DTSTAMP:20260421T061323
CREATED:20241009T214429Z
LAST-MODIFIED:20250207T180003Z
UID:76518-1739363400-1739377800@www.njmep.org
SUMMARY:ISO AS 9100 Internal Auditor Training - Virtual
DESCRIPTION:2/12\, 2/13\, 2/19\, 2/20/2025
URL:https://www.njmep.org/calendar-event/iso-as-9100-internal-auditor-training-virtual-2/
LOCATION:Online
ATTACH;FMTTYPE=image/jpeg:https://www.njmep.org/wp-content/uploads/2024/03/ISOAS9100_032524a.jpg
END:VEVENT
BEGIN:VEVENT
DTSTART;TZID=America/New_York:20250213T120000
DTEND;TZID=America/New_York:20250213T130000
DTSTAMP:20260421T061323
CREATED:20250115T170050Z
LAST-MODIFIED:20250425T224013Z
UID:79499-1739448000-1739451600@www.njmep.org
SUMMARY:SAP ERP for Manufacturing - What is ERP and How to Find the Right Fit
DESCRIPTION:Are you ready to transform your manufacturing business with streamlined operations\, optimized inventory\, and real-time insights? Join us for an engaging 30-minute webinar designed for manufacturing professionals across all management levels and disciplines. Manufacturers are the backbone of modern industry\, producing the goods we rely on daily. But in today’s competitive market\, staying ahead means more than just production—it requires the right tools to manage operations efficiently and effectively. That’s where ERP (Enterprise Resource Planning) software comes in. \nWhat You’ll Gain: \nA clear understanding of ERP and why it’s essential for modern manufacturing.\nInsights into how ERP can revolutionize financial management\, inventory\, supply chain\, production\, and sales processes.\nA roadmap for getting started: key questions to ask and how to identify the right ERP system for your unique needs.\nA look at SAP’s tailored ERP solutions for manufacturers of all sizes.\nWho Should Attend? Whether you’re a decision-maker\, a team leader\, or a key contributor\, this webinar is designed to provide actionable insights that drive value at every level of your organization. \nWhy Attend? \nPractical Benefits: Learn how ERP software can save time\, reduce costs\, and improve business intelligence.\nReal-World Application: Discover how SAP solutions can scale with your business\, whether you’re a growing company or an established industry leader.\nInteractive Learning: Ask questions and engage with experts to gain clarity and confidence in your ERP journey.\nDon’t miss this opportunity to explore how SAP ERP can empower your manufacturing operations and support your path to success. \nReserve Your Spot Today!
URL:https://www.njmep.org/calendar-event/sap-erp-for-manufacturing-what-is-erp-and-how-to-find-the-right-fit/
LOCATION:Online
ATTACH;FMTTYPE=image/jpeg:https://www.njmep.org/wp-content/uploads/2025/01/GENERIC_a.jpg
END:VEVENT
BEGIN:VEVENT
DTSTART;TZID=America/New_York:20250220T083000
DTEND;TZID=America/New_York:20250220T170000
DTSTAMP:20260421T061323
CREATED:20241122T175649Z
LAST-MODIFIED:20250311T150803Z
UID:78164-1740040200-1740070800@www.njmep.org
SUMMARY:Empowerment Unleashed: Building Effective Self-Directed Teams
DESCRIPTION:2/20\, 2/21/2025
URL:https://www.njmep.org/calendar-event/empowerment-unleashed-building-effective-self-directed-teams/
LOCATION:NJMEP North 2 Ridgedale Ave\, Suite 305\, Cedar Knolls\, NJ 07927\, 2 Ridgedale Ave\, Cedar Knolls\, NJ\, 07927\, United States
ATTACH;FMTTYPE=image/jpeg:https://www.njmep.org/wp-content/uploads/2024/11/Empowerment-Unleased.jpg
END:VEVENT
BEGIN:VEVENT
DTSTART;TZID=America/New_York:20250220T130000
DTEND;TZID=America/New_York:20250220T170000
DTSTAMP:20260421T061323
CREATED:20250204T212813Z
LAST-MODIFIED:20250425T224014Z
UID:80526-1740056400-1740070800@www.njmep.org
SUMMARY:Supervisory Skills Training Group A - PRIVATE
DESCRIPTION:Content is protected.
URL:https://www.njmep.org/calendar-event/supervisory-skills-training-group-a-private/
LOCATION:Zeus\, 134 Chubb Way\, Branchburg\, NJ\, 08876\, United States
END:VEVENT
BEGIN:VEVENT
DTSTART;TZID=America/New_York:20250220T180000
DTEND;TZID=America/New_York:20250220T220000
DTSTAMP:20260421T061323
CREATED:20250204T213116Z
LAST-MODIFIED:20250425T224013Z
UID:80532-1740074400-1740088800@www.njmep.org
SUMMARY:Supervisory Skills Training Group B - PRIVATE
DESCRIPTION:Content is protected.
URL:https://www.njmep.org/calendar-event/supervisory-skills-training-group-b-private/
LOCATION:Zeus\, 134 Chubb Way\, Branchburg\, NJ\, 08876\, United States
END:VEVENT
BEGIN:VEVENT
DTSTART;TZID=America/New_York:20250221T090000
DTEND;TZID=America/New_York:20250221T120000
DTSTAMP:20260421T061323
CREATED:20250129T174702Z
LAST-MODIFIED:20250415T173108Z
UID:80344-1740128400-1740139200@www.njmep.org
SUMMARY:Manufacturing Industry Roundtable: Shaping the Future of Sussex County Business
DESCRIPTION:Content is protected.
URL:https://www.njmep.org/calendar-event/manufacturing-industry-roundtable-shaping-the-future-of-sussex-county-business/
LOCATION:Sussex County Community College\, One College Hill Rd\, Newton\, NJ\, 07860\, United States
END:VEVENT
BEGIN:VEVENT
DTSTART;TZID=America/New_York:20250227T110000
DTEND;TZID=America/New_York:20250227T120000
DTSTAMP:20260421T061323
CREATED:20250107T153536Z
LAST-MODIFIED:20250425T224012Z
UID:79118-1740654000-1740657600@www.njmep.org
SUMMARY:Innovative Employee Benefit Strategies for Manufacturing Workforces
DESCRIPTION:NJMEP is excited to partner with Acrisure of New Jersey for an exclusive webinar tailored to CFOs\, HR Directors\, VPs\, and Benefits Professionals in the New Jersey manufacturing industry. This interactive session will explore practical and effective approaches to managing employee benefits while reducing costs and increasing value. \nWhat You’ll Learn: \n\nUnderstanding Alternative Funding Solutions: Explore how these innovative models apply specifically to manufacturing companies and their unique challenges.\nMaximizing Health and Welfare Dollars: Discover strategies to optimize spending\, enhance employee benefits\, and improve overall cost efficiency.\nReal-World Success Stories: Gain insights from case studies featuring New Jersey manufacturers who successfully implemented these strategies.\n\nDon’t miss this opportunity to connect with industry experts and learn actionable strategies to elevate your workforce’s benefits program. \nRegister now to secure your spot and bring new solutions to your organization!
URL:https://www.njmep.org/calendar-event/innovative-employee-benefit-strategies-for-manufacturing-workforces/
LOCATION:Online
ATTACH;FMTTYPE=image/jpeg:https://www.njmep.org/wp-content/uploads/2024/12/GENERIC_a.jpg
END:VEVENT
BEGIN:VEVENT
DTSTART;TZID=America/New_York:20250227T163000
DTEND;TZID=America/New_York:20250227T193000
DTSTAMP:20260421T061323
CREATED:20241223T173149Z
LAST-MODIFIED:20250415T172334Z
UID:78985-1740673800-1740684600@www.njmep.org
SUMMARY:NJDMCC Networking Event at Double Tap Brewing
DESCRIPTION:Join the New Jersey Defense Manufacturing Community Consortium (NJDMCC)\, the New Jersey Manufacturing Extension Program (NJMEP)\, and Picatinny Arsenal Representatives for a networking event at Double Tap Brewing\, where you can learn about “Fast Tracking” opportunities to become a part of the DoD Supply Chain.  \nWhen you join the NJDMCC\, manufacturers can…  \n\nLearn how to efficiently and effectively become a DoD supplier \nExpand government contracts for current DoD suppliers \nUnlock access to a new talent pool \n\n\nJob seekers are either veterans or veteran families \nJob seekers receive valuable\, industry-relevant training from NJMEP and its partners \n\nJoin us and help support our Nation’s unemployed and underemployed veterans. Together\, we can help build a stronger\, more resilient DoD supply chain here in New Jersey! 
URL:https://www.njmep.org/calendar-event/njdmcc-networking-event-with-picatinny-arsenal-at-double-tap-brewing/
LOCATION:Double Tap Brewing\, 50 Parsippany Rd\, Whippany\, NJ\, 07981\, United States
ATTACH;FMTTYPE=image/jpeg:https://www.njmep.org/wp-content/uploads/2024/12/GENERIC_a.jpg
END:VEVENT
END:VCALENDAR