BEGIN:VCALENDAR
VERSION:2.0
PRODID:-//NJMEP - ECPv6.15.20//NONSGML v1.0//EN
CALSCALE:GREGORIAN
METHOD:PUBLISH
X-ORIGINAL-URL:https://www.njmep.org
X-WR-CALDESC:Events for NJMEP
REFRESH-INTERVAL;VALUE=DURATION:PT1H
X-Robots-Tag:noindex
X-PUBLISHED-TTL:PT1H
BEGIN:VTIMEZONE
TZID:America/New_York
BEGIN:DAYLIGHT
TZOFFSETFROM:-0500
TZOFFSETTO:-0400
TZNAME:EDT
DTSTART:20240310T070000
END:DAYLIGHT
BEGIN:STANDARD
TZOFFSETFROM:-0400
TZOFFSETTO:-0500
TZNAME:EST
DTSTART:20241103T060000
END:STANDARD
BEGIN:DAYLIGHT
TZOFFSETFROM:-0500
TZOFFSETTO:-0400
TZNAME:EDT
DTSTART:20250309T070000
END:DAYLIGHT
BEGIN:STANDARD
TZOFFSETFROM:-0400
TZOFFSETTO:-0500
TZNAME:EST
DTSTART:20251102T060000
END:STANDARD
BEGIN:DAYLIGHT
TZOFFSETFROM:-0500
TZOFFSETTO:-0400
TZNAME:EDT
DTSTART:20260308T070000
END:DAYLIGHT
BEGIN:STANDARD
TZOFFSETFROM:-0400
TZOFFSETTO:-0500
TZNAME:EST
DTSTART:20261101T060000
END:STANDARD
END:VTIMEZONE
BEGIN:VEVENT
DTSTART;TZID=America/New_York:20250304T083000
DTEND;TZID=America/New_York:20250304T170000
DTSTAMP:20260419T092419
CREATED:20241122T194534Z
LAST-MODIFIED:20250224T175405Z
UID:78171-1741077000-1741107600@www.njmep.org
SUMMARY:From Boss to Leader:  Mastering the Art of Both
DESCRIPTION:
URL:https://www.njmep.org/calendar-event/from-boss-to-leader-mastering-the-art-of-both/
LOCATION:NJMEP North 2 Ridgedale Ave\, Suite 305\, Cedar Knolls\, NJ 07927\, 2 Ridgedale Ave\, Cedar Knolls\, NJ\, 07927\, United States
ATTACH;FMTTYPE=image/jpeg:https://www.njmep.org/wp-content/uploads/2024/11/From-Boss-To-Leader.jpg
END:VEVENT
BEGIN:VEVENT
DTSTART;TZID=America/New_York:20250305T123000
DTEND;TZID=America/New_York:20250305T163000
DTSTAMP:20260419T092419
CREATED:20241010T145959Z
LAST-MODIFIED:20250425T224010Z
UID:76527-1741177800-1741192200@www.njmep.org
SUMMARY:Excel Introduction - Virtual
DESCRIPTION:This course is intended for those whose work requires them to work on spreadsheets and present documentation required by the company. It includes data entry\, formulas and dimensions of the worksheet\, formatting data\, creating charts\, using statistical functions and customization of presentations.
URL:https://www.njmep.org/calendar-event/excel-introduction-virtual-5/
LOCATION:Online
ATTACH;FMTTYPE=image/jpeg:https://www.njmep.org/wp-content/uploads/2023/01/EXCEL_INTRO_2023.jpg
END:VEVENT
BEGIN:VEVENT
DTSTART;TZID=America/New_York:20250306T083000
DTEND;TZID=America/New_York:20250306T163000
DTSTAMP:20260419T092419
CREATED:20241010T151032Z
LAST-MODIFIED:20250303T134903Z
UID:76533-1741249800-1741278600@www.njmep.org
SUMMARY:OSHA 30 Hour Card Construction Certification Training - North
DESCRIPTION:3/6\, 3/7\, 3/13\, 3/14/2025
URL:https://www.njmep.org/calendar-event/osha-30-hour-card-construction-certification-training-north-2/
LOCATION:NJMEP North 2 Ridgedale Ave\, Suite 305\, Cedar Knolls\, NJ 07927\, 2 Ridgedale Ave\, Cedar Knolls\, NJ\, 07927\, United States
ATTACH;FMTTYPE=image/jpeg:https://www.njmep.org/wp-content/uploads/2023/06/OSHA_30_HR_031623a.jpg
END:VEVENT
BEGIN:VEVENT
DTSTART;TZID=America/New_York:20250306T083000
DTEND;TZID=America/New_York:20250306T170000
DTSTAMP:20260419T092419
CREATED:20241030T202212Z
LAST-MODIFIED:20250425T224012Z
UID:77375-1741249800-1741280400@www.njmep.org
SUMMARY:Blue Print Reading for Beginners - North
DESCRIPTION:This two-day training course has been designed for people who want to understand how to read blueprints. The class will be live with an NJMEP Expert Resource with constant discussion between students and the instructor.
URL:https://www.njmep.org/calendar-event/blue-print-reading-for-beginners-north-7/
LOCATION:NJMEP North 2 Ridgedale Ave\, Suite 305\, Cedar Knolls\, NJ 07927\, 2 Ridgedale Ave\, Cedar Knolls\, NJ\, 07927\, United States
ATTACH;FMTTYPE=image/jpeg:https://www.njmep.org/wp-content/uploads/2023/01/BLUEPRINT_READING_BEGINNERS_022423a.jpg
END:VEVENT
BEGIN:VEVENT
DTSTART;TZID=America/New_York:20250312T083000
DTEND;TZID=America/New_York:20250312T170000
DTSTAMP:20260419T092419
CREATED:20241016T172915Z
LAST-MODIFIED:20250415T174214Z
UID:76645-1741768200-1741798800@www.njmep.org
SUMMARY:Food Safety - PCQI Preventive Controls for Human Food - North
DESCRIPTION:3/12\, 3/13 & 3/14/2025
URL:https://www.njmep.org/calendar-event/food-safety-pcqi-preventive-controls-for-human-food-north-5/
LOCATION:NJMEP North 2 Ridgedale Ave\, Suite 305\, Cedar Knolls\, NJ 07927\, 2 Ridgedale Ave\, Cedar Knolls\, NJ\, 07927\, United States
ATTACH;FMTTYPE=image/jpeg:https://www.njmep.org/wp-content/uploads/2023/03/Food_Safety_PCQI_2023.jpg
END:VEVENT
BEGIN:VEVENT
DTSTART;TZID=America/New_York:20250312T090000
DTEND;TZID=America/New_York:20250312T100000
DTSTAMP:20260419T092419
CREATED:20250124T210335Z
LAST-MODIFIED:20250425T224014Z
UID:80005-1741770000-1741773600@www.njmep.org
SUMMARY:Introduction to Reputation Risk Principles - Manufacturing as a Key Enabler of R
DESCRIPTION:In this one-hour webinar\, we will examine the emerging Reputation Risk landscape and how manufacturing has become a key enabler of Reputation Risk excellence.
URL:https://www.njmep.org/calendar-event/introduction-to-reputation-risk-principles/
LOCATION:Online
END:VEVENT
BEGIN:VEVENT
DTSTART;TZID=America/New_York:20250312T123000
DTEND;TZID=America/New_York:20250312T163000
DTSTAMP:20260419T092419
CREATED:20241010T152538Z
LAST-MODIFIED:20250307T221504Z
UID:76539-1741782600-1741797000@www.njmep.org
SUMMARY:Excel Intermediate - Virtual
DESCRIPTION:3/12 & 3/13/2025
URL:https://www.njmep.org/calendar-event/excel-intermediate-virtual-4/
LOCATION:Online
ATTACH;FMTTYPE=image/jpeg:https://www.njmep.org/wp-content/uploads/2023/12/EXCEL_INTERMEDIATE_2023.jpg
END:VEVENT
BEGIN:VEVENT
DTSTART;TZID=America/New_York:20250313T110000
DTEND;TZID=America/New_York:20250313T120000
DTSTAMP:20260419T092419
CREATED:20250124T211114Z
LAST-MODIFIED:20250415T172607Z
UID:80016-1741863600-1741867200@www.njmep.org
SUMMARY:Retaining Your Best Today to Lead for Tomorrow - Developing the Next Generation
DESCRIPTION:
URL:https://www.njmep.org/calendar-event/retaining-your-best-today-to-lead-for-tomorrow-developing-the-next-generation-leader-virtual/
LOCATION:Online
ATTACH;FMTTYPE=image/jpeg:https://www.njmep.org/wp-content/uploads/2024/08/RETAINING_2024.jpg
END:VEVENT
BEGIN:VEVENT
DTSTART;TZID=America/New_York:20250318T090000
DTEND;TZID=America/New_York:20250318T170000
DTSTAMP:20260419T092419
CREATED:20250212T152422Z
LAST-MODIFIED:20250317T145203Z
UID:80804-1742288400-1742317200@www.njmep.org
SUMMARY:Universal Robotics Core Training
DESCRIPTION:TO REGISTER FOR THIS EVENT PLEASE CLICK HERE\n 
URL:https://www.njmep.org/calendar-event/universal-robotics-core-training/
LOCATION:NJMEP North 2 Ridgedale Ave\, Suite 305\, Cedar Knolls\, NJ 07927\, 2 Ridgedale Ave\, Cedar Knolls\, NJ\, 07927\, United States
END:VEVENT
BEGIN:VEVENT
DTSTART;TZID=America/New_York:20250318T120000
DTEND;TZID=America/New_York:20250318T130000
DTSTAMP:20260419T092419
CREATED:20241223T173829Z
LAST-MODIFIED:20250415T172208Z
UID:78991-1742299200-1742302800@www.njmep.org
SUMMARY:Employee Retention Solutions for Manufacturing Leaders - Virtual
DESCRIPTION:
URL:https://www.njmep.org/calendar-event/employee-retention-solutions-for-manufacturing-leaders-virtual/
LOCATION:NJ
ATTACH;FMTTYPE=image/jpeg:https://www.njmep.org/wp-content/uploads/2024/12/employee-retention-solutions-for-manufacturing-leaders_2025.jpg
END:VEVENT
BEGIN:VEVENT
DTSTART;TZID=America/New_York:20250319T083000
DTEND;TZID=America/New_York:20250319T170000
DTSTAMP:20260419T092419
CREATED:20241122T195743Z
LAST-MODIFIED:20250415T171908Z
UID:78177-1742373000-1742403600@www.njmep.org
SUMMARY:Lean Six Sigma Yellow Belt Training
DESCRIPTION:The Yellow Belt course serves as an introduction to Continuous Improvement (CI) focused on improving processes and outcomes in organizations of all types\, whether manufacturing or transactional. \nParticipants will gain foundational knowledge in CI principles and learn how to apply them within their own areas of responsibility. \nAs will apply the tools in class to a project in their area of responsibility to be completed after class ends.
URL:https://www.njmep.org/calendar-event/lean-six-sigma-yellow-belt-training-9/
LOCATION:NJMEP North 2 Ridgedale Ave\, Suite 305\, Cedar Knolls\, NJ 07927\, 2 Ridgedale Ave\, Cedar Knolls\, NJ\, 07927\, United States
ATTACH;FMTTYPE=image/jpeg:https://www.njmep.org/wp-content/uploads/2023/12/Six_Sigma_Yellow_Belt_012023a.jpg
END:VEVENT
BEGIN:VEVENT
DTSTART;TZID=America/New_York:20250319T123000
DTEND;TZID=America/New_York:20250319T163000
DTSTAMP:20260419T092419
CREATED:20241016T183019Z
LAST-MODIFIED:20250425T224010Z
UID:76662-1742387400-1742401800@www.njmep.org
SUMMARY:Excel Intermediate with a Focus on Finance - Virtual
DESCRIPTION:Students will learn how to utilize Excel for a wide variety of financial purposes\, such as naming conventions and methodologies\, outlines\, worksheet and cell protection\, concatenation\, array formulas\, array functions\, consolidation\, filters\, pivot tables\, goal seek\, data validation\, conditional formatting\, recording macros\, editing macros\, auditing tools\, hyperlinks\, LOOKUP functions\, IF functions\, DATE functions. All of these functions will be beneficial to those working with financial data.
URL:https://www.njmep.org/calendar-event/excel-intermediate-with-a-focus-on-finance-virtual-5/
LOCATION:Online
ATTACH;FMTTYPE=image/jpeg:https://www.njmep.org/wp-content/uploads/2023/12/EXCEL_INTERMEDIATE_FINANCE_120623.jpg
END:VEVENT
BEGIN:VEVENT
DTSTART;TZID=America/New_York:20250320T083000
DTEND;TZID=America/New_York:20250320T170000
DTSTAMP:20260419T092419
CREATED:20250212T174012Z
LAST-MODIFIED:20251222T163433Z
UID:80819-1742459400-1742490000@www.njmep.org
SUMMARY:Lean Manufacturing - Introduction to Value Stream Mapping - North
DESCRIPTION:
URL:https://www.njmep.org/calendar-event/lean-manufacturing-introduction-to-value-stream-mapping-north-7/
LOCATION:NJMEP North 2 Ridgedale Ave\, Suite 305\, Cedar Knolls\, NJ 07927\, 2 Ridgedale Ave\, Cedar Knolls\, NJ\, 07927\, United States
ATTACH;FMTTYPE=image/jpeg:https://www.njmep.org/wp-content/uploads/2024/01/LEAN_Value_Stream_Mapping_020923a.jpg
END:VEVENT
BEGIN:VEVENT
DTSTART;TZID=America/New_York:20250320T110000
DTEND;TZID=America/New_York:20250320T120000
DTSTAMP:20260419T092419
CREATED:20250124T211432Z
LAST-MODIFIED:20250415T172808Z
UID:80022-1742468400-1742472000@www.njmep.org
SUMMARY:How to Secure R&D Tax Credits for Product & Process Improvements
DESCRIPTION:
URL:https://www.njmep.org/calendar-event/how-to-secure-rd-tax-credits-for-product-process-improvements/
LOCATION:Online
ATTACH;FMTTYPE=image/jpeg:https://www.njmep.org/wp-content/uploads/2025/01/RandD.jpg
END:VEVENT
BEGIN:VEVENT
DTSTART;TZID=America/New_York:20250324T083000
DTEND;TZID=America/New_York:20250324T170000
DTSTAMP:20260419T092419
CREATED:20250204T214055Z
LAST-MODIFIED:20250318T190315Z
UID:80549-1742805000-1742835600@www.njmep.org
SUMMARY:Augmented Arc Welding Training
DESCRIPTION:3-24-2025\, 3-25-2025
URL:https://www.njmep.org/calendar-event/augmented-arc-welding-training-13/
LOCATION:NJMEP North 2 Ridgedale Ave\, Suite 305\, Cedar Knolls\, NJ 07927\, 2 Ridgedale Ave\, Cedar Knolls\, NJ\, 07927\, United States
ATTACH;FMTTYPE=image/jpeg:https://www.njmep.org/wp-content/uploads/2023/03/Augmented_Arc_Welding_Training_011923a.jpg
END:VEVENT
BEGIN:VEVENT
DTSTART;TZID=America/New_York:20250325T120000
DTEND;TZID=America/New_York:20250325T130000
DTSTAMP:20260419T092419
CREATED:20250124T211717Z
LAST-MODIFIED:20250415T172808Z
UID:80030-1742904000-1742907600@www.njmep.org
SUMMARY:Built to Last—and Sell - Why Every Manufacturing Owner Needs an Exit Strategy
DESCRIPTION:
URL:https://www.njmep.org/calendar-event/built-to-last-and-sell-why-every-manufacturing-owner-needs-an-exit-strategy-virtual/
LOCATION:Online
ATTACH;FMTTYPE=image/jpeg:https://www.njmep.org/wp-content/uploads/2025/01/Built-to-Last—and-Sell.jpg
END:VEVENT
BEGIN:VEVENT
DTSTART;TZID=America/New_York:20250327T083000
DTEND;TZID=America/New_York:20250327T170000
DTSTAMP:20260419T092419
CREATED:20250124T212106Z
LAST-MODIFIED:20250422T163608Z
UID:80035-1743064200-1743094800@www.njmep.org
SUMMARY:Time Management and Goal Setting
DESCRIPTION:
URL:https://www.njmep.org/calendar-event/time-management-and-goal-setting/
LOCATION:NJMEP North 2 Ridgedale Ave\, Suite 305\, Cedar Knolls\, NJ 07927\, 2 Ridgedale Ave\, Cedar Knolls\, NJ\, 07927\, United States
END:VEVENT
END:VCALENDAR