BEGIN:VCALENDAR
VERSION:2.0
PRODID:-//NJMEP - ECPv6.15.20//NONSGML v1.0//EN
CALSCALE:GREGORIAN
METHOD:PUBLISH
X-ORIGINAL-URL:https://www.njmep.org
X-WR-CALDESC:Events for NJMEP
REFRESH-INTERVAL;VALUE=DURATION:PT1H
X-Robots-Tag:noindex
X-PUBLISHED-TTL:PT1H
BEGIN:VTIMEZONE
TZID:America/New_York
BEGIN:DAYLIGHT
TZOFFSETFROM:-0500
TZOFFSETTO:-0400
TZNAME:EDT
DTSTART:20240310T070000
END:DAYLIGHT
BEGIN:STANDARD
TZOFFSETFROM:-0400
TZOFFSETTO:-0500
TZNAME:EST
DTSTART:20241103T060000
END:STANDARD
BEGIN:DAYLIGHT
TZOFFSETFROM:-0500
TZOFFSETTO:-0400
TZNAME:EDT
DTSTART:20250309T070000
END:DAYLIGHT
BEGIN:STANDARD
TZOFFSETFROM:-0400
TZOFFSETTO:-0500
TZNAME:EST
DTSTART:20251102T060000
END:STANDARD
BEGIN:DAYLIGHT
TZOFFSETFROM:-0500
TZOFFSETTO:-0400
TZNAME:EDT
DTSTART:20260308T070000
END:DAYLIGHT
BEGIN:STANDARD
TZOFFSETFROM:-0400
TZOFFSETTO:-0500
TZNAME:EST
DTSTART:20261101T060000
END:STANDARD
END:VTIMEZONE
BEGIN:VEVENT
DTSTART;TZID=America/New_York:20250603T083000
DTEND;TZID=America/New_York:20250603T170000
DTSTAMP:20260419T120419
CREATED:20241105T183026Z
LAST-MODIFIED:20250530T133655Z
UID:77554-1748939400-1748970000@www.njmep.org
SUMMARY:Food Safety - CAPA - Corrective Action (CA) and Root Cause Analysis (RCA) - North
DESCRIPTION:6/3 & 6/4/2025
URL:https://www.njmep.org/calendar-event/food-safety-capa-corrective-action-ca-and-root-cause-analysis-rca-north-2/
LOCATION:NJMEP North 2 Ridgedale Ave\, Suite 305\, Cedar Knolls\, NJ 07927\, 2 Ridgedale Ave\, Cedar Knolls\, NJ\, 07927\, United States
ATTACH;FMTTYPE=image/jpeg:https://www.njmep.org/wp-content/uploads/2024/02/Food_Safety_CA_021623a.jpg
END:VEVENT
BEGIN:VEVENT
DTSTART;TZID=America/New_York:20250604T083000
DTEND;TZID=America/New_York:20250604T170000
DTSTAMP:20260419T120419
CREATED:20241106T210813Z
LAST-MODIFIED:20250528T153911Z
UID:77576-1749025800-1749056400@www.njmep.org
SUMMARY:Principles of Lean Manufacturing with Live Simulation - North
DESCRIPTION:
URL:https://www.njmep.org/calendar-event/principles-of-lean-manufacturing-with-live-simulation-north-2/
LOCATION:NJMEP North 2 Ridgedale Ave\, Suite 305\, Cedar Knolls\, NJ 07927\, 2 Ridgedale Ave\, Cedar Knolls\, NJ\, 07927\, United States
ATTACH;FMTTYPE=image/jpeg:https://www.njmep.org/wp-content/uploads/2023/01/LEAN_PRINCIPLES_022223a.jpg
END:VEVENT
BEGIN:VEVENT
DTSTART;TZID=America/New_York:20250605T083000
DTEND;TZID=America/New_York:20250605T170000
DTSTAMP:20260419T120419
CREATED:20241106T211355Z
LAST-MODIFIED:20250530T133734Z
UID:77588-1749112200-1749142800@www.njmep.org
SUMMARY:Food Safety - FDA Food Labeling Nutrition Facts - North
DESCRIPTION:
URL:https://www.njmep.org/calendar-event/food-safety-fda-food-labeling-nutrition-facts-north-4/
LOCATION:NJMEP North 2 Ridgedale Ave\, Suite 305\, Cedar Knolls\, NJ 07927\, 2 Ridgedale Ave\, Cedar Knolls\, NJ\, 07927\, United States
ATTACH;FMTTYPE=image/jpeg:https://www.njmep.org/wp-content/uploads/2024/03/Food_Safety_Nutrition_Label_021623a.jpg
END:VEVENT
BEGIN:VEVENT
DTSTART;TZID=America/New_York:20250611T083000
DTEND;TZID=America/New_York:20250611T170000
DTSTAMP:20260419T120419
CREATED:20241108T214556Z
LAST-MODIFIED:20250606T155012Z
UID:77669-1749630600-1749661200@www.njmep.org
SUMMARY:Food Safety - Cleaning & Sanitation - North
DESCRIPTION:
URL:https://www.njmep.org/calendar-event/food-safety-cleaning-sanitation-north/
LOCATION:NJMEP North 2 Ridgedale Ave\, Suite 305\, Cedar Knolls\, NJ 07927\, 2 Ridgedale Ave\, Cedar Knolls\, NJ\, 07927\, United States
ATTACH;FMTTYPE=image/jpeg:https://www.njmep.org/wp-content/uploads/2023/01/Food_Safety_Cleaning_and_Sanitation_021523a.jpg
END:VEVENT
BEGIN:VEVENT
DTSTART;TZID=America/New_York:20250611T083000
DTEND;TZID=America/New_York:20250611T170000
DTSTAMP:20260419T120419
CREATED:20241108T214952Z
LAST-MODIFIED:20250630T121818Z
UID:77675-1749630600-1749661200@www.njmep.org
SUMMARY:Project Management Professional (PMP®) Certification Exam Prep Course - North
DESCRIPTION:6/11\, 6/12\, 6/13\, 6/25\, 6/26\, 6/27/2025
URL:https://www.njmep.org/calendar-event/project-management-professional-pmp-certification-exam-prep-course-north/
LOCATION:NJMEP North 2 Ridgedale Ave\, Suite 305\, Cedar Knolls\, NJ 07927\, 2 Ridgedale Ave\, Cedar Knolls\, NJ\, 07927\, United States
ATTACH;FMTTYPE=image/jpeg:https://www.njmep.org/wp-content/uploads/2023/01/Project_Management_PMP_011923a.jpg
END:VEVENT
BEGIN:VEVENT
DTSTART;TZID=America/New_York:20250612T083000
DTEND;TZID=America/New_York:20250612T123000
DTSTAMP:20260419T120419
CREATED:20241108T212845Z
LAST-MODIFIED:20250606T161611Z
UID:77659-1749717000-1749731400@www.njmep.org
SUMMARY:Six Sigma Green Belt Certification Training - Virtual
DESCRIPTION:6/12\, 6/13\, 6/19\, 6/20\, 6/26\, 6/27\, 7/10\, 7/11\, 7/17\, 7/18\, 7/24\, 7/25/2025
URL:https://www.njmep.org/calendar-event/six-sigma-green-belt-certification-training-virtual-3/
LOCATION:Online
ATTACH;FMTTYPE=image/jpeg:https://www.njmep.org/wp-content/uploads/2023/03/Six_Sigma_Green_Belt_011923a.jpg
END:VEVENT
BEGIN:VEVENT
DTSTART;TZID=America/New_York:20250618T123000
DTEND;TZID=America/New_York:20250618T163000
DTSTAMP:20260419T120419
CREATED:20241112T215952Z
LAST-MODIFIED:20250630T123217Z
UID:77725-1750249800-1750264200@www.njmep.org
SUMMARY:Supervisory Skills Training in Spanish - Virtual
DESCRIPTION:6/18\, 6/19\, 6/25\, 6/26/2025
URL:https://www.njmep.org/calendar-event/supervisory-skills-training-in-spanish-virtual-5/
LOCATION:Online
ATTACH;FMTTYPE=image/jpeg:https://www.njmep.org/wp-content/uploads/2023/01/Supervisor_Skills_Spanish_021523a.jpg
END:VEVENT
BEGIN:VEVENT
DTSTART;TZID=America/New_York:20250619T120000
DTEND;TZID=America/New_York:20250619T160000
DTSTAMP:20260419T120419
CREATED:20250523T151923Z
LAST-MODIFIED:20250620T122414Z
UID:83919-1750334400-1750348800@www.njmep.org
SUMMARY:Closing the Deal: Sales Effectiveness for Manufacturing Professionals - Virtual
DESCRIPTION:Content is protected.
URL:https://www.njmep.org/calendar-event/closing-the-deal-sales-effectiveness-for-manufacturing-professionals-virtual/
LOCATION:Online
END:VEVENT
BEGIN:VEVENT
DTSTART;TZID=America/New_York:20250624T083000
DTEND;TZID=America/New_York:20250624T170000
DTSTAMP:20260419T120419
CREATED:20250221T213511Z
LAST-MODIFIED:20250624T190114Z
UID:81138-1750753800-1750784400@www.njmep.org
SUMMARY:Lean Manufacturing - Introduction to Value Stream Mapping - North
DESCRIPTION:
URL:https://www.njmep.org/calendar-event/lean-manufacturing-introduction-to-value-stream-mapping-north-8/
LOCATION:NJMEP North 2 Ridgedale Ave\, Suite 305\, Cedar Knolls\, NJ 07927\, 2 Ridgedale Ave\, Cedar Knolls\, NJ\, 07927\, United States
ATTACH;FMTTYPE=image/jpeg:https://www.njmep.org/wp-content/uploads/2024/01/LEAN_Value_Stream_Mapping_020923a.jpg
END:VEVENT
BEGIN:VEVENT
DTSTART;TZID=America/New_York:20250624T120000
DTEND;TZID=America/New_York:20250624T130000
DTSTAMP:20260419T120419
CREATED:20250221T214001Z
LAST-MODIFIED:20250630T141116Z
UID:81143-1750766400-1750770000@www.njmep.org
SUMMARY:Built to Last—and Sell - Why Every Manufacturing Owner Needs an Exit Strategy
DESCRIPTION:
URL:https://www.njmep.org/calendar-event/built-to-last-and-sell-why-every-manufacturing-owner-needs-an-exit-strategy-virtual-2/
LOCATION:Online
ATTACH;FMTTYPE=image/jpeg:https://www.njmep.org/wp-content/uploads/2025/02/BUILT_TO_LAST_061225.jpg
END:VEVENT
BEGIN:VEVENT
DTSTART;TZID=America/New_York:20250626T083000
DTEND;TZID=America/New_York:20250626T170000
DTSTAMP:20260419T120419
CREATED:20250618T131710Z
LAST-MODIFIED:20250630T152817Z
UID:84668-1750926600-1750957200@www.njmep.org
SUMMARY:Food Safety - cGMP (Current Good Manufacturing Practices) Requirements and Readi
DESCRIPTION:Content is protected.
URL:https://www.njmep.org/calendar-event/food-safety-cgmp-current-good-manufacturing-practices-requirements-and-readiness-training-private/
LOCATION:IMAD International LLC\, 217 Miller Street\, Newark\, NJ\, 07114\, United States
END:VEVENT
END:VCALENDAR